OziExplorer Map Data File Version 2.2
100k--l49-135.gif
100k--l49-135.gif
1 ,Map Code,
Pulkovo 1942 (2),WGS 84, 0.0000, 0.0000,WGS 84
Reserved 1
Reserved 2
Magnetic Variation,,,E
Map Projection,Transverse Mercator,PolyCal,No,AutoCalOnly,No,BSBUseWPX,No
Point01,xy, 108, 101,in, deg, 44, 20.0000,N, 109, 0.0000,E, grid, , , ,N
Point02,xy, 1674, 101,in, deg, 44, 20.0000,N, 109, 15.0000,E, grid, , , ,N
Point03,xy, 3242, 96,in, deg, 44, 20.0000,N, 109, 30.0000,E, grid, , , ,N
Point04,xy, 106, 1554,in, deg, 44, 10.0000,N, 109, 0.0000,E, grid, , , ,N
Point05,xy, 1677, 1552,in, deg, 44, 10.0000,N, 109, 15.0000,E, grid, , , ,N
Point06,xy, 3246, 1544,in, deg, 44, 10.0000,N, 109, 30.0000,E, grid, , , ,N
Point07,xy, 102, 3004,in, deg, 44, 0.0000,N, 109, 0.0000,E, grid, , , ,N
Point08,xy, 1680, 3001,in, deg, 44, 0.0000,N, 109, 15.0000,E, grid, , , ,N
Point09,xy, 3254, 2996,in, deg, 44, 0.0000,N, 109, 30.0000,E, grid, , , ,N
Point10,xy, , ,in, deg, , ,N, , ,W, grid, , , ,N
Point11,xy, , ,in, deg, , ,N, , ,W, grid, , , ,N
Point12,xy, , ,in, deg, , ,N, , ,W, grid, , , ,N
Point13,xy, , ,in, deg, , ,N, , ,W, grid, , , ,N
Point14,xy, , ,in, deg, , ,N, , ,W, grid, , , ,N
Point15,xy, , ,in, deg, , ,N, , ,W, grid, , , ,N
Point16,xy, , ,in, deg, , ,N, , ,W, grid, , , ,N
Point17,xy, , ,in, deg, , ,N, , ,W, grid, , , ,N
Point18,xy, , ,in, deg, , ,N, , ,W, grid, , , ,N
Point19,xy, , ,in, deg, , ,N, , ,W, grid, , , ,N
Point20,xy, , ,in, deg, , ,N, , ,W, grid, , , ,N
Point21,xy, , ,in, deg, , ,N, , ,W, grid, , , ,N
Point22,xy, , ,in, deg, , ,N, , ,W, grid, , , ,N
Point23,xy, , ,in, deg, , ,N, , ,W, grid, , , ,N
Point24,xy, , ,in, deg, , ,N, , ,W, grid, , , ,N
Point25,xy, , ,in, deg, , ,N, , ,W, grid, , , ,N
Point26,xy, , ,in, deg, , ,N, , ,W, grid, , , ,N
Point27,xy, , ,in, deg, , ,N, , ,W, grid, , , ,N
Point28,xy, , ,in, deg, , ,N, , ,W, grid, , , ,N
Point29,xy, , ,in, deg, , ,N, , ,W, grid, , , ,N
Point30,xy, , ,in, deg, , ,N, , ,W, grid, , , ,N
Projection Setup, 0.000000000, 111.000000000, 1.000000000, 500000.00, 0.00,,,,,
Map Feature = MF ; Map Comment = MC These follow if they exist
Track File = TF These follow if they exist
Moving Map Parameters = MM? These follow if they exist
MM0,Yes
MMPNUM,4
MMPXY,1,107,99
MMPXY,2,3247,99
MMPXY,3,3247,3002
MMPXY,4,107,3002
MMPLL,1, 108.999843, 44.333714
MMPLL,2, 109.500935, 44.332854
MMPLL,3, 109.498889, 43.999274
MMPLL,4, 109.000614, 44.000176
MM1B,12.722335
MOP,Map Open Position,0,0
IWH,Map Image Width/Height,3354,3101
