OziExplorer Map Data File Version 2.2
100k--l49-110.gif
100k--l49-110.gif
1 ,Map Code,
Pulkovo 1942 (2),WGS 84, 0.0000, 0.0000,WGS 84
Reserved 1
Reserved 2
Magnetic Variation,,,E
Map Projection,Transverse Mercator,PolyCal,No,AutoCalOnly,No,BSBUseWPX,No
Point01,xy, 107, 98,in, deg, 45, 0.0000,N, 108, 30.0000,E, grid, , , ,N
Point02,xy, 1658, 101,in, deg, 45, 0.0000,N, 108, 45.0000,E, grid, , , ,N
Point03,xy, 3206, 103,in, deg, 45, 0.0000,N, 109, 0.0000,E, grid, , , ,N
Point04,xy, 103, 1554,in, deg, 44, 50.0000,N, 108, 30.0000,E, grid, , , ,N
Point05,xy, 1660, 1556,in, deg, 44, 50.0000,N, 108, 45.0000,E, grid, , , ,N
Point06,xy, 3210, 1556,in, deg, 44, 50.0000,N, 109, 0.0000,E, grid, , , ,N
Point07,xy, 99, 3009,in, deg, 44, 40.0000,N, 108, 30.0000,E, grid, , , ,N
Point08,xy, 1661, 3008,in, deg, 44, 40.0000,N, 108, 45.0000,E, grid, , , ,N
Point09,xy, 3217, 3009,in, deg, 44, 40.0000,N, 109, 0.0000,E, grid, , , ,N
Point10,xy, , ,in, deg, , ,N, , ,W, grid, , , ,N
Point11,xy, , ,in, deg, , ,N, , ,W, grid, , , ,N
Point12,xy, , ,in, deg, , ,N, , ,W, grid, , , ,N
Point13,xy, , ,in, deg, , ,N, , ,W, grid, , , ,N
Point14,xy, , ,in, deg, , ,N, , ,W, grid, , , ,N
Point15,xy, , ,in, deg, , ,N, , ,W, grid, , , ,N
Point16,xy, , ,in, deg, , ,N, , ,W, grid, , , ,N
Point17,xy, , ,in, deg, , ,N, , ,W, grid, , , ,N
Point18,xy, , ,in, deg, , ,N, , ,W, grid, , , ,N
Point19,xy, , ,in, deg, , ,N, , ,W, grid, , , ,N
Point20,xy, , ,in, deg, , ,N, , ,W, grid, , , ,N
Point21,xy, , ,in, deg, , ,N, , ,W, grid, , , ,N
Point22,xy, , ,in, deg, , ,N, , ,W, grid, , , ,N
Point23,xy, , ,in, deg, , ,N, , ,W, grid, , , ,N
Point24,xy, , ,in, deg, , ,N, , ,W, grid, , , ,N
Point25,xy, , ,in, deg, , ,N, , ,W, grid, , , ,N
Point26,xy, , ,in, deg, , ,N, , ,W, grid, , , ,N
Point27,xy, , ,in, deg, , ,N, , ,W, grid, , , ,N
Point28,xy, , ,in, deg, , ,N, , ,W, grid, , , ,N
Point29,xy, , ,in, deg, , ,N, , ,W, grid, , , ,N
Point30,xy, , ,in, deg, , ,N, , ,W, grid, , , ,N
Projection Setup, 0.000000000, 111.000000000, 1.000000000, 500000.00, 0.00,,,,,
Map Feature = MF ; Map Comment = MC These follow if they exist
Track File = TF These follow if they exist
Moving Map Parameters = MM? These follow if they exist
MM0,Yes
MMPNUM,4
MMPXY,1,106,99
MMPXY,2,3215,99
MMPXY,3,3215,3009
MMPXY,4,106,3009
MMPLL,1, 108.499779, 44.999977
MMPLL,2, 109.001389, 45.000270
MMPLL,3, 108.999620, 44.666682
MMPLL,4, 108.500898, 44.666445
MM1B,12.716641
MOP,Map Open Position,0,0
IWH,Map Image Width/Height,3321,3108
