OziExplorer Map Data File Version 2.2
100k--l49-109.gif
100k--l49-109.gif
1 ,Map Code,
Pulkovo 1942 (2),WGS 84, 0.0000, 0.0000,WGS 84
Reserved 1
Reserved 2
Magnetic Variation,,,E
Map Projection,Transverse Mercator,PolyCal,No,AutoCalOnly,No,BSBUseWPX,No
Point01,xy, 104, 108,in, deg, 45, 0.0000,N, 108, 0.0000,E, grid, , , ,N
Point02,xy, 1652, 104,in, deg, 45, 0.0000,N, 108, 15.0000,E, grid, , , ,N
Point03,xy, 3203, 96,in, deg, 45, 0.0000,N, 108, 30.0000,E, grid, , , ,N
Point04,xy, 106, 1566,in, deg, 44, 50.0000,N, 108, 0.0000,E, grid, , , ,N
Point05,xy, 1662, 1560,in, deg, 44, 50.0000,N, 108, 15.0000,E, grid, , , ,N
Point06,xy, 3214, 1552,in, deg, 44, 50.0000,N, 108, 30.0000,E, grid, , , ,N
Point07,xy, 112, 3026,in, deg, 44, 40.0000,N, 108, 0.0000,E, grid, , , ,N
Point08,xy, 1670, 3017,in, deg, 44, 40.0000,N, 108, 15.0000,E, grid, , , ,N
Point09,xy, 3228, 3006,in, deg, 44, 40.0000,N, 108, 30.0000,E, grid, , , ,N
Point10,xy, , ,in, deg, , ,N, , ,W, grid, , , ,N
Point11,xy, , ,in, deg, , ,N, , ,W, grid, , , ,N
Point12,xy, , ,in, deg, , ,N, , ,W, grid, , , ,N
Point13,xy, , ,in, deg, , ,N, , ,W, grid, , , ,N
Point14,xy, , ,in, deg, , ,N, , ,W, grid, , , ,N
Point15,xy, , ,in, deg, , ,N, , ,W, grid, , , ,N
Point16,xy, , ,in, deg, , ,N, , ,W, grid, , , ,N
Point17,xy, , ,in, deg, , ,N, , ,W, grid, , , ,N
Point18,xy, , ,in, deg, , ,N, , ,W, grid, , , ,N
Point19,xy, , ,in, deg, , ,N, , ,W, grid, , , ,N
Point20,xy, , ,in, deg, , ,N, , ,W, grid, , , ,N
Point21,xy, , ,in, deg, , ,N, , ,W, grid, , , ,N
Point22,xy, , ,in, deg, , ,N, , ,W, grid, , , ,N
Point23,xy, , ,in, deg, , ,N, , ,W, grid, , , ,N
Point24,xy, , ,in, deg, , ,N, , ,W, grid, , , ,N
Point25,xy, , ,in, deg, , ,N, , ,W, grid, , , ,N
Point26,xy, , ,in, deg, , ,N, , ,W, grid, , , ,N
Point27,xy, , ,in, deg, , ,N, , ,W, grid, , , ,N
Point28,xy, , ,in, deg, , ,N, , ,W, grid, , , ,N
Point29,xy, , ,in, deg, , ,N, , ,W, grid, , , ,N
Point30,xy, , ,in, deg, , ,N, , ,W, grid, , , ,N
Projection Setup, 0.000000000, 111.000000000, 1.000000000, 500000.00, 0.00,,,,,
Map Feature = MF ; Map Comment = MC These follow if they exist
Track File = TF These follow if they exist
Moving Map Parameters = MM? These follow if they exist
MM0,Yes
MMPNUM,4
MMPXY,1,106,100
MMPXY,2,3221,100
MMPXY,3,3221,3022
MMPXY,4,106,3022
MMPLL,1, 108.000429, 45.001063
MMPLL,2, 108.503048, 44.999332
MMPLL,3, 108.498852, 44.665029
MMPLL,4, 107.999134, 44.666819
MM1B,12.715284
MOP,Map Open Position,0,0
IWH,Map Image Width/Height,3327,3122
