OziExplorer Map Data File Version 2.2
100k--l49-096.gif
100k--l49-096.gif
1 ,Map Code,
Pulkovo 1942 (2),WGS 84, 0.0000, 0.0000,WGS 84
Reserved 1
Reserved 2
Magnetic Variation,,,E
Map Projection,Transverse Mercator,PolyCal,No,AutoCalOnly,No,BSBUseWPX,No
Point01,xy, 110, 90,in, deg, 45, 40.0000,N, 113, 30.0000,E, grid, , , ,N
Point02,xy, 1640, 94,in, deg, 45, 40.0000,N, 113, 45.0000,E, grid, , , ,N
Point03,xy, 3170, 88,in, deg, 45, 40.0000,N, 114, 0.0000,E, grid, , , ,N
Point04,xy, 105, 1546,in, deg, 45, 30.0000,N, 113, 30.0000,E, grid, , , ,N
Point05,xy, 1642, 1546,in, deg, 45, 30.0000,N, 113, 45.0000,E, grid, , , ,N
Point06,xy, 3174, 1543,in, deg, 45, 30.0000,N, 114, 0.0000,E, grid, , , ,N
Point07,xy, 100, 2999,in, deg, 45, 20.0000,N, 113, 30.0000,E, grid, , , ,N
Point08,xy, 1644, 3000,in, deg, 45, 20.0000,N, 113, 45.0000,E, grid, , , ,N
Point09,xy, 3181, 2996,in, deg, 45, 20.0000,N, 114, 0.0000,E, grid, , , ,N
Point10,xy, , ,in, deg, , ,N, , ,W, grid, , , ,N
Point11,xy, , ,in, deg, , ,N, , ,W, grid, , , ,N
Point12,xy, , ,in, deg, , ,N, , ,W, grid, , , ,N
Point13,xy, , ,in, deg, , ,N, , ,W, grid, , , ,N
Point14,xy, , ,in, deg, , ,N, , ,W, grid, , , ,N
Point15,xy, , ,in, deg, , ,N, , ,W, grid, , , ,N
Point16,xy, , ,in, deg, , ,N, , ,W, grid, , , ,N
Point17,xy, , ,in, deg, , ,N, , ,W, grid, , , ,N
Point18,xy, , ,in, deg, , ,N, , ,W, grid, , , ,N
Point19,xy, , ,in, deg, , ,N, , ,W, grid, , , ,N
Point20,xy, , ,in, deg, , ,N, , ,W, grid, , , ,N
Point21,xy, , ,in, deg, , ,N, , ,W, grid, , , ,N
Point22,xy, , ,in, deg, , ,N, , ,W, grid, , , ,N
Point23,xy, , ,in, deg, , ,N, , ,W, grid, , , ,N
Point24,xy, , ,in, deg, , ,N, , ,W, grid, , , ,N
Point25,xy, , ,in, deg, , ,N, , ,W, grid, , , ,N
Point26,xy, , ,in, deg, , ,N, , ,W, grid, , , ,N
Point27,xy, , ,in, deg, , ,N, , ,W, grid, , , ,N
Point28,xy, , ,in, deg, , ,N, , ,W, grid, , , ,N
Point29,xy, , ,in, deg, , ,N, , ,W, grid, , , ,N
Point30,xy, , ,in, deg, , ,N, , ,W, grid, , , ,N
Projection Setup, 0.000000000, 111.000000000, 1.000000000, 500000.00, 0.00,,,,,
Map Feature = MF ; Map Comment = MC These follow if they exist
Track File = TF These follow if they exist
Moving Map Parameters = MM? These follow if they exist
MM0,Yes
MMPNUM,4
MMPXY,1,105,99
MMPXY,2,3176,99
MMPXY,3,3176,3002
MMPXY,4,105,3002
MMPLL,1, 113.499289, 45.665807
MMPLL,2, 114.000925, 45.665466
MMPLL,3, 113.999179, 45.332706
MMPLL,4, 113.500493, 45.332977
MM1B,12.724531
MOP,Map Open Position,0,0
IWH,Map Image Width/Height,3281,3101
