OziExplorer Map Data File Version 2.2
100k--l49-088.gif
100k--l49-088.gif
1 ,Map Code,
Pulkovo 1942 (2),WGS 84, 0.0000, 0.0000,WGS 84
Reserved 1
Reserved 2
Magnetic Variation,,,E
Map Projection,Transverse Mercator,PolyCal,No,AutoCalOnly,No,BSBUseWPX,No
Point01,xy, 118, 96,in, deg, 45, 40.0000,N, 109, 30.0000,E, grid, , , ,N
Point02,xy, 1648, 104,in, deg, 45, 40.0000,N, 109, 45.0000,E, grid, , , ,N
Point03,xy, 3182, 106,in, deg, 45, 40.0000,N, 110, 0.0000,E, grid, , , ,N
Point04,xy, 108, 1548,in, deg, 45, 30.0000,N, 109, 30.0000,E, grid, , , ,N
Point05,xy, 1645, 1556,in, deg, 45, 30.0000,N, 109, 45.0000,E, grid, , , ,N
Point06,xy, 3182, 1558,in, deg, 45, 30.0000,N, 110, 0.0000,E, grid, , , ,N
Point07,xy, 96, 2998,in, deg, 45, 20.0000,N, 109, 30.0000,E, grid, , , ,N
Point08,xy, 1640, 3006,in, deg, 45, 20.0000,N, 109, 45.0000,E, grid, , , ,N
Point09,xy, 3181, 3012,in, deg, 45, 20.0000,N, 110, 0.0000,E, grid, , , ,N
Point10,xy, , ,in, deg, , ,N, , ,W, grid, , , ,N
Point11,xy, , ,in, deg, , ,N, , ,W, grid, , , ,N
Point12,xy, , ,in, deg, , ,N, , ,W, grid, , , ,N
Point13,xy, , ,in, deg, , ,N, , ,W, grid, , , ,N
Point14,xy, , ,in, deg, , ,N, , ,W, grid, , , ,N
Point15,xy, , ,in, deg, , ,N, , ,W, grid, , , ,N
Point16,xy, , ,in, deg, , ,N, , ,W, grid, , , ,N
Point17,xy, , ,in, deg, , ,N, , ,W, grid, , , ,N
Point18,xy, , ,in, deg, , ,N, , ,W, grid, , , ,N
Point19,xy, , ,in, deg, , ,N, , ,W, grid, , , ,N
Point20,xy, , ,in, deg, , ,N, , ,W, grid, , , ,N
Point21,xy, , ,in, deg, , ,N, , ,W, grid, , , ,N
Point22,xy, , ,in, deg, , ,N, , ,W, grid, , , ,N
Point23,xy, , ,in, deg, , ,N, , ,W, grid, , , ,N
Point24,xy, , ,in, deg, , ,N, , ,W, grid, , , ,N
Point25,xy, , ,in, deg, , ,N, , ,W, grid, , , ,N
Point26,xy, , ,in, deg, , ,N, , ,W, grid, , , ,N
Point27,xy, , ,in, deg, , ,N, , ,W, grid, , , ,N
Point28,xy, , ,in, deg, , ,N, , ,W, grid, , , ,N
Point29,xy, , ,in, deg, , ,N, , ,W, grid, , , ,N
Point30,xy, , ,in, deg, , ,N, , ,W, grid, , , ,N
Projection Setup, 0.000000000, 111.000000000, 1.000000000, 500000.00, 0.00,,,,,
Map Feature = MF ; Map Comment = MC These follow if they exist
Track File = TF These follow if they exist
Moving Map Parameters = MM? These follow if they exist
MM0,Yes
MMPNUM,4
MMPXY,1,105,99
MMPXY,2,3176,99
MMPXY,3,3176,3009
MMPXY,4,105,3009
MMPLL,1, 109.498049, 45.666266
MMPLL,2, 109.998981, 45.667588
MMPLL,3, 109.999192, 45.333478
MMPLL,4, 109.501214, 45.332194
MM1B,12.706980
MOP,Map Open Position,0,0
IWH,Map Image Width/Height,3281,3108
