OziExplorer Map Data File Version 2.2
100k--l49-085.gif
100k--l49-085.gif
1 ,Map Code,
Pulkovo 1942 (2),WGS 84, 0.0000, 0.0000,WGS 84
Reserved 1
Reserved 2
Magnetic Variation,,,E
Map Projection,Transverse Mercator,PolyCal,No,AutoCalOnly,No,BSBUseWPX,No
Point01,xy, 118, 86,in, deg, 45, 40.0000,N, 108, 0.0000,E, grid, , , ,N
Point02,xy, 1651, 96,in, deg, 45, 40.0000,N, 108, 15.0000,E, grid, , , ,N
Point03,xy, 3183, 101,in, deg, 45, 40.0000,N, 108, 30.0000,E, grid, , , ,N
Point04,xy, 110, 1536,in, deg, 45, 30.0000,N, 108, 0.0000,E, grid, , , ,N
Point05,xy, 1646, 1546,in, deg, 45, 30.0000,N, 108, 15.0000,E, grid, , , ,N
Point06,xy, 3181, 1552,in, deg, 45, 30.0000,N, 108, 30.0000,E, grid, , , ,N
Point07,xy, 99, 2988,in, deg, 45, 20.0000,N, 108, 0.0000,E, grid, , , ,N
Point08,xy, 1641, 2998,in, deg, 45, 20.0000,N, 108, 15.0000,E, grid, , , ,N
Point09,xy, 3180, 3003,in, deg, 45, 20.0000,N, 108, 30.0000,E, grid, , , ,N
Point10,xy, , ,in, deg, , ,N, , ,W, grid, , , ,N
Point11,xy, , ,in, deg, , ,N, , ,W, grid, , , ,N
Point12,xy, , ,in, deg, , ,N, , ,W, grid, , , ,N
Point13,xy, , ,in, deg, , ,N, , ,W, grid, , , ,N
Point14,xy, , ,in, deg, , ,N, , ,W, grid, , , ,N
Point15,xy, , ,in, deg, , ,N, , ,W, grid, , , ,N
Point16,xy, , ,in, deg, , ,N, , ,W, grid, , , ,N
Point17,xy, , ,in, deg, , ,N, , ,W, grid, , , ,N
Point18,xy, , ,in, deg, , ,N, , ,W, grid, , , ,N
Point19,xy, , ,in, deg, , ,N, , ,W, grid, , , ,N
Point20,xy, , ,in, deg, , ,N, , ,W, grid, , , ,N
Point21,xy, , ,in, deg, , ,N, , ,W, grid, , , ,N
Point22,xy, , ,in, deg, , ,N, , ,W, grid, , , ,N
Point23,xy, , ,in, deg, , ,N, , ,W, grid, , , ,N
Point24,xy, , ,in, deg, , ,N, , ,W, grid, , , ,N
Point25,xy, , ,in, deg, , ,N, , ,W, grid, , , ,N
Point26,xy, , ,in, deg, , ,N, , ,W, grid, , , ,N
Point27,xy, , ,in, deg, , ,N, , ,W, grid, , , ,N
Point28,xy, , ,in, deg, , ,N, , ,W, grid, , , ,N
Point29,xy, , ,in, deg, , ,N, , ,W, grid, , , ,N
Point30,xy, , ,in, deg, , ,N, , ,W, grid, , , ,N
Projection Setup, 0.000000000, 111.000000000, 1.000000000, 500000.00, 0.00,,,,,
Map Feature = MF ; Map Comment = MC These follow if they exist
Track File = TF These follow if they exist
Moving Map Parameters = MM? These follow if they exist
MM0,Yes
MMPNUM,4
MMPXY,1,105,99
MMPXY,2,3182,99
MMPXY,3,3182,2995
MMPXY,4,105,2995
MMPLL,1, 107.997706, 45.665105
MMPLL,2, 108.499934, 45.666908
MMPLL,3, 108.500192, 45.334235
MMPLL,4, 108.000915, 45.332508
MM1B,12.716464
MOP,Map Open Position,0,0
IWH,Map Image Width/Height,3287,3094
