OziExplorer Map Data File Version 2.2
100k--l49-081.gif
100k--l49-081.gif
1 ,Map Code,
Pulkovo 1942 (2),WGS 84, 0.0000, 0.0000,WGS 84
Reserved 1
Reserved 2
Magnetic Variation,,,E
Map Projection,Transverse Mercator,PolyCal,No,AutoCalOnly,No,BSBUseWPX,No
Point01,xy, 108, 96,in, deg, 46, 0.0000,N, 112, 0.0000,E, grid, , , ,N
Point02,xy, 1628, 98,in, deg, 46, 0.0000,N, 112, 15.0000,E, grid, , , ,N
Point03,xy, 3150, 95,in, deg, 46, 0.0000,N, 112, 30.0000,E, grid, , , ,N
Point04,xy, 101, 1548,in, deg, 45, 50.0000,N, 112, 0.0000,E, grid, , , ,N
Point05,xy, 1626, 1549,in, deg, 45, 50.0000,N, 112, 15.0000,E, grid, , , ,N
Point06,xy, 3152, 1550,in, deg, 45, 50.0000,N, 112, 30.0000,E, grid, , , ,N
Point07,xy, 92, 3002,in, deg, 45, 40.0000,N, 112, 0.0000,E, grid, , , ,N
Point08,xy, 1624, 3004,in, deg, 45, 40.0000,N, 112, 15.0000,E, grid, , , ,N
Point09,xy, 3154, 3004,in, deg, 45, 40.0000,N, 112, 30.0000,E, grid, , , ,N
Point10,xy, , ,in, deg, , ,N, , ,W, grid, , , ,N
Point11,xy, , ,in, deg, , ,N, , ,W, grid, , , ,N
Point12,xy, , ,in, deg, , ,N, , ,W, grid, , , ,N
Point13,xy, , ,in, deg, , ,N, , ,W, grid, , , ,N
Point14,xy, , ,in, deg, , ,N, , ,W, grid, , , ,N
Point15,xy, , ,in, deg, , ,N, , ,W, grid, , , ,N
Point16,xy, , ,in, deg, , ,N, , ,W, grid, , , ,N
Point17,xy, , ,in, deg, , ,N, , ,W, grid, , , ,N
Point18,xy, , ,in, deg, , ,N, , ,W, grid, , , ,N
Point19,xy, , ,in, deg, , ,N, , ,W, grid, , , ,N
Point20,xy, , ,in, deg, , ,N, , ,W, grid, , , ,N
Point21,xy, , ,in, deg, , ,N, , ,W, grid, , , ,N
Point22,xy, , ,in, deg, , ,N, , ,W, grid, , , ,N
Point23,xy, , ,in, deg, , ,N, , ,W, grid, , , ,N
Point24,xy, , ,in, deg, , ,N, , ,W, grid, , , ,N
Point25,xy, , ,in, deg, , ,N, , ,W, grid, , , ,N
Point26,xy, , ,in, deg, , ,N, , ,W, grid, , , ,N
Point27,xy, , ,in, deg, , ,N, , ,W, grid, , , ,N
Point28,xy, , ,in, deg, , ,N, , ,W, grid, , , ,N
Point29,xy, , ,in, deg, , ,N, , ,W, grid, , , ,N
Point30,xy, , ,in, deg, , ,N, , ,W, grid, , , ,N
Projection Setup, 0.000000000, 111.000000000, 1.000000000, 500000.00, 0.00,,,,,
Map Feature = MF ; Map Comment = MC These follow if they exist
Track File = TF These follow if they exist
Moving Map Parameters = MM? These follow if they exist
MM0,Yes
MMPNUM,4
MMPXY,1,104,99
MMPXY,2,3142,99
MMPXY,3,3142,2995
MMPXY,4,104,2995
MMPLL,1, 111.999428, 45.999520
MMPLL,2, 112.498675, 45.999623
MMPLL,3, 112.498068, 45.667567
MMPLL,4, 112.001782, 45.667437
MM1B,12.724938
MOP,Map Open Position,0,0
IWH,Map Image Width/Height,3246,3094
