OziExplorer Map Data File Version 2.2
100k--l49-074.gif
100k--l49-074.gif
1 ,Map Code,
Pulkovo 1942 (2),WGS 84, 0.0000, 0.0000,WGS 84
Reserved 1
Reserved 2
Magnetic Variation,,,E
Map Projection,Transverse Mercator,PolyCal,No,AutoCalOnly,No,BSBUseWPX,No
Point01,xy, 124, 94,in, deg, 46, 0.0000,N, 108, 30.0000,E, grid, , , ,N
Point02,xy, 1648, 108,in, deg, 46, 0.0000,N, 108, 45.0000,E, grid, , , ,N
Point03,xy, 3174, 116,in, deg, 46, 0.0000,N, 109, 0.0000,E, grid, , , ,N
Point04,xy, 111, 1550,in, deg, 45, 50.0000,N, 108, 30.0000,E, grid, , , ,N
Point05,xy, 1640, 1564,in, deg, 45, 50.0000,N, 108, 45.0000,E, grid, , , ,N
Point06,xy, 3170, 1571,in, deg, 45, 50.0000,N, 109, 0.0000,E, grid, , , ,N
Point07,xy, 98, 3008,in, deg, 45, 40.0000,N, 108, 30.0000,E, grid, , , ,N
Point08,xy, 1632, 3018,in, deg, 45, 40.0000,N, 108, 45.0000,E, grid, , , ,N
Point09,xy, 3166, 3026,in, deg, 45, 40.0000,N, 109, 0.0000,E, grid, , , ,N
Point10,xy, , ,in, deg, , ,N, , ,W, grid, , , ,N
Point11,xy, , ,in, deg, , ,N, , ,W, grid, , , ,N
Point12,xy, , ,in, deg, , ,N, , ,W, grid, , , ,N
Point13,xy, , ,in, deg, , ,N, , ,W, grid, , , ,N
Point14,xy, , ,in, deg, , ,N, , ,W, grid, , , ,N
Point15,xy, , ,in, deg, , ,N, , ,W, grid, , , ,N
Point16,xy, , ,in, deg, , ,N, , ,W, grid, , , ,N
Point17,xy, , ,in, deg, , ,N, , ,W, grid, , , ,N
Point18,xy, , ,in, deg, , ,N, , ,W, grid, , , ,N
Point19,xy, , ,in, deg, , ,N, , ,W, grid, , , ,N
Point20,xy, , ,in, deg, , ,N, , ,W, grid, , , ,N
Point21,xy, , ,in, deg, , ,N, , ,W, grid, , , ,N
Point22,xy, , ,in, deg, , ,N, , ,W, grid, , , ,N
Point23,xy, , ,in, deg, , ,N, , ,W, grid, , , ,N
Point24,xy, , ,in, deg, , ,N, , ,W, grid, , , ,N
Point25,xy, , ,in, deg, , ,N, , ,W, grid, , , ,N
Point26,xy, , ,in, deg, , ,N, , ,W, grid, , , ,N
Point27,xy, , ,in, deg, , ,N, , ,W, grid, , , ,N
Point28,xy, , ,in, deg, , ,N, , ,W, grid, , , ,N
Point29,xy, , ,in, deg, , ,N, , ,W, grid, , , ,N
Point30,xy, , ,in, deg, , ,N, , ,W, grid, , , ,N
Projection Setup, 0.000000000, 111.000000000, 1.000000000, 500000.00, 0.00,,,,,
Map Feature = MF ; Map Comment = MC These follow if they exist
Track File = TF These follow if they exist
Moving Map Parameters = MM? These follow if they exist
MM0,Yes
MMPNUM,4
MMPXY,1,105,100
MMPXY,2,3169,100
MMPXY,3,3169,3022
MMPXY,4,105,3022
MMPLL,1, 108.496935, 45.999400
MMPLL,2, 108.999239, 46.001767
MMPLL,3, 109.000476, 45.667195
MMPLL,4, 108.501173, 45.664895
MM1B,12.696224
MOP,Map Open Position,0,0
IWH,Map Image Width/Height,3274,3122
