OziExplorer Map Data File Version 2.2
100k--l49-070.gif
100k--l49-070.gif
1 ,Map Code,
Pulkovo 1942 (2),WGS 84, 0.0000, 0.0000,WGS 84
Reserved 1
Reserved 2
Magnetic Variation,,,E
Map Projection,Transverse Mercator,PolyCal,No,AutoCalOnly,No,BSBUseWPX,No
Point01,xy, 97, 94,in, deg, 46, 20.0000,N, 112, 30.0000,E, grid, , , ,N
Point02,xy, 1609, 94,in, deg, 46, 20.0000,N, 112, 45.0000,E, grid, , , ,N
Point03,xy, 3123, 89,in, deg, 46, 20.0000,N, 113, 0.0000,E, grid, , , ,N
Point04,xy, 96, 1546,in, deg, 46, 10.0000,N, 112, 30.0000,E, grid, , , ,N
Point05,xy, 1615, 1548,in, deg, 46, 10.0000,N, 112, 45.0000,E, grid, , , ,N
Point06,xy, 3130, 1544,in, deg, 46, 10.0000,N, 113, 0.0000,E, grid, , , ,N
Point07,xy, 96, 3002,in, deg, 46, 0.0000,N, 112, 30.0000,E, grid, , , ,N
Point08,xy, 1618, 2998,in, deg, 46, 0.0000,N, 112, 45.0000,E, grid, , , ,N
Point09,xy, 3139, 2996,in, deg, 46, 0.0000,N, 113, 0.0000,E, grid, , , ,N
Point10,xy, , ,in, deg, , ,N, , ,W, grid, , , ,N
Point11,xy, , ,in, deg, , ,N, , ,W, grid, , , ,N
Point12,xy, , ,in, deg, , ,N, , ,W, grid, , , ,N
Point13,xy, , ,in, deg, , ,N, , ,W, grid, , , ,N
Point14,xy, , ,in, deg, , ,N, , ,W, grid, , , ,N
Point15,xy, , ,in, deg, , ,N, , ,W, grid, , , ,N
Point16,xy, , ,in, deg, , ,N, , ,W, grid, , , ,N
Point17,xy, , ,in, deg, , ,N, , ,W, grid, , , ,N
Point18,xy, , ,in, deg, , ,N, , ,W, grid, , , ,N
Point19,xy, , ,in, deg, , ,N, , ,W, grid, , , ,N
Point20,xy, , ,in, deg, , ,N, , ,W, grid, , , ,N
Point21,xy, , ,in, deg, , ,N, , ,W, grid, , , ,N
Point22,xy, , ,in, deg, , ,N, , ,W, grid, , , ,N
Point23,xy, , ,in, deg, , ,N, , ,W, grid, , , ,N
Point24,xy, , ,in, deg, , ,N, , ,W, grid, , , ,N
Point25,xy, , ,in, deg, , ,N, , ,W, grid, , , ,N
Point26,xy, , ,in, deg, , ,N, , ,W, grid, , , ,N
Point27,xy, , ,in, deg, , ,N, , ,W, grid, , , ,N
Point28,xy, , ,in, deg, , ,N, , ,W, grid, , , ,N
Point29,xy, , ,in, deg, , ,N, , ,W, grid, , , ,N
Point30,xy, , ,in, deg, , ,N, , ,W, grid, , , ,N
Projection Setup, 0.000000000, 111.000000000, 1.000000000, 500000.00, 0.00,,,,,
Map Feature = MF ; Map Comment = MC These follow if they exist
Track File = TF These follow if they exist
Moving Map Parameters = MM? These follow if they exist
MM0,Yes
MMPNUM,4
MMPXY,1,103,99
MMPXY,2,3117,99
MMPXY,3,3117,3000
MMPXY,4,103,3000
MMPLL,1, 112.500978, 46.332756
MMPLL,2, 112.999124, 46.332240
MMPLL,3, 112.996314, 45.999547
MMPLL,4, 112.501164, 46.000014
MM1B,12.721295
MOP,Map Open Position,0,0
IWH,Map Image Width/Height,3220,3099
