OziExplorer Map Data File Version 2.2
100k--l49-066.gif
100k--l49-066.gif
1 ,Map Code,
Pulkovo 1942 (2),WGS 84, 0.0000, 0.0000,WGS 84
Reserved 1
Reserved 2
Magnetic Variation,,,E
Map Projection,Transverse Mercator,PolyCal,No,AutoCalOnly,No,BSBUseWPX,No
Point01,xy, 99, 90,in, deg, 46, 20.0000,N, 110, 30.0000,E, grid, , , ,N
Point02,xy, 1611, 94,in, deg, 46, 20.0000,N, 110, 45.0000,E, grid, , , ,N
Point03,xy, 3120, 92,in, deg, 46, 20.0000,N, 111, 0.0000,E, grid, , , ,N
Point04,xy, 94, 1542,in, deg, 46, 10.0000,N, 110, 30.0000,E, grid, , , ,N
Point05,xy, 1610, 1544,in, deg, 46, 10.0000,N, 110, 45.0000,E, grid, , , ,N
Point06,xy, 3124, 1546,in, deg, 46, 10.0000,N, 111, 0.0000,E, grid, , , ,N
Point07,xy, 88, 2992,in, deg, 46, 0.0000,N, 110, 30.0000,E, grid, , , ,N
Point08,xy, 1610, 2994,in, deg, 46, 0.0000,N, 110, 45.0000,E, grid, , , ,N
Point09,xy, 3129, 2992,in, deg, 46, 0.0000,N, 111, 0.0000,E, grid, , , ,N
Point10,xy, , ,in, deg, , ,N, , ,W, grid, , , ,N
Point11,xy, , ,in, deg, , ,N, , ,W, grid, , , ,N
Point12,xy, , ,in, deg, , ,N, , ,W, grid, , , ,N
Point13,xy, , ,in, deg, , ,N, , ,W, grid, , , ,N
Point14,xy, , ,in, deg, , ,N, , ,W, grid, , , ,N
Point15,xy, , ,in, deg, , ,N, , ,W, grid, , , ,N
Point16,xy, , ,in, deg, , ,N, , ,W, grid, , , ,N
Point17,xy, , ,in, deg, , ,N, , ,W, grid, , , ,N
Point18,xy, , ,in, deg, , ,N, , ,W, grid, , , ,N
Point19,xy, , ,in, deg, , ,N, , ,W, grid, , , ,N
Point20,xy, , ,in, deg, , ,N, , ,W, grid, , , ,N
Point21,xy, , ,in, deg, , ,N, , ,W, grid, , , ,N
Point22,xy, , ,in, deg, , ,N, , ,W, grid, , , ,N
Point23,xy, , ,in, deg, , ,N, , ,W, grid, , , ,N
Point24,xy, , ,in, deg, , ,N, , ,W, grid, , , ,N
Point25,xy, , ,in, deg, , ,N, , ,W, grid, , , ,N
Point26,xy, , ,in, deg, , ,N, , ,W, grid, , , ,N
Point27,xy, , ,in, deg, , ,N, , ,W, grid, , , ,N
Point28,xy, , ,in, deg, , ,N, , ,W, grid, , , ,N
Point29,xy, , ,in, deg, , ,N, , ,W, grid, , , ,N
Point30,xy, , ,in, deg, , ,N, , ,W, grid, , , ,N
Projection Setup, 0.000000000, 111.000000000, 1.000000000, 500000.00, 0.00,,,,,
Map Feature = MF ; Map Comment = MC These follow if they exist
Track File = TF These follow if they exist
Moving Map Parameters = MM? These follow if they exist
MM0,Yes
MMPNUM,4
MMPXY,1,103,99
MMPXY,2,3116,99
MMPXY,3,3116,2984
MMPXY,4,103,2984
MMPLL,1, 110.500636, 46.332387
MMPLL,2, 110.999219, 46.332618
MMPLL,3, 110.997890, 46.001085
MMPLL,4, 110.502292, 46.000860
MM1B,12.736575
MOP,Map Open Position,0,0
IWH,Map Image Width/Height,3219,3083
