OziExplorer Map Data File Version 2.2
100k--l49-063.gif
100k--l49-063.gif
1 ,Map Code,
Pulkovo 1942 (2),WGS 84, 0.0000, 0.0000,WGS 84
Reserved 1
Reserved 2
Magnetic Variation,,,E
Map Projection,Transverse Mercator,PolyCal,No,AutoCalOnly,No,BSBUseWPX,No
Point01,xy, 92, 106,in, deg, 46, 20.0000,N, 109, 0.0000,E, grid, , , ,N
Point02,xy, 1602, 105,in, deg, 46, 20.0000,N, 109, 15.0000,E, grid, , , ,N
Point03,xy, 3120, 100,in, deg, 46, 20.0000,N, 109, 30.0000,E, grid, , , ,N
Point04,xy, 91, 1558,in, deg, 46, 10.0000,N, 109, 0.0000,E, grid, , , ,N
Point05,xy, 1606, 1554,in, deg, 46, 10.0000,N, 109, 15.0000,E, grid, , , ,N
Point06,xy, 3128, 1550,in, deg, 46, 10.0000,N, 109, 30.0000,E, grid, , , ,N
Point07,xy, 91, 3010,in, deg, 46, 0.0000,N, 109, 0.0000,E, grid, , , ,N
Point08,xy, 1610, 3006,in, deg, 46, 0.0000,N, 109, 15.0000,E, grid, , , ,N
Point09,xy, 3136, 3000,in, deg, 46, 0.0000,N, 109, 30.0000,E, grid, , , ,N
Point10,xy, , ,in, deg, , ,N, , ,W, grid, , , ,N
Point11,xy, , ,in, deg, , ,N, , ,W, grid, , , ,N
Point12,xy, , ,in, deg, , ,N, , ,W, grid, , , ,N
Point13,xy, , ,in, deg, , ,N, , ,W, grid, , , ,N
Point14,xy, , ,in, deg, , ,N, , ,W, grid, , , ,N
Point15,xy, , ,in, deg, , ,N, , ,W, grid, , , ,N
Point16,xy, , ,in, deg, , ,N, , ,W, grid, , , ,N
Point17,xy, , ,in, deg, , ,N, , ,W, grid, , , ,N
Point18,xy, , ,in, deg, , ,N, , ,W, grid, , , ,N
Point19,xy, , ,in, deg, , ,N, , ,W, grid, , , ,N
Point20,xy, , ,in, deg, , ,N, , ,W, grid, , , ,N
Point21,xy, , ,in, deg, , ,N, , ,W, grid, , , ,N
Point22,xy, , ,in, deg, , ,N, , ,W, grid, , , ,N
Point23,xy, , ,in, deg, , ,N, , ,W, grid, , , ,N
Point24,xy, , ,in, deg, , ,N, , ,W, grid, , , ,N
Point25,xy, , ,in, deg, , ,N, , ,W, grid, , , ,N
Point26,xy, , ,in, deg, , ,N, , ,W, grid, , , ,N
Point27,xy, , ,in, deg, , ,N, , ,W, grid, , , ,N
Point28,xy, , ,in, deg, , ,N, , ,W, grid, , , ,N
Point29,xy, , ,in, deg, , ,N, , ,W, grid, , , ,N
Point30,xy, , ,in, deg, , ,N, , ,W, grid, , , ,N
Projection Setup, 0.000000000, 111.000000000, 1.000000000, 500000.00, 0.00,,,,,
Map Feature = MF ; Map Comment = MC These follow if they exist
Track File = TF These follow if they exist
Moving Map Parameters = MM? These follow if they exist
MM0,Yes
MMPNUM,4
MMPXY,1,104,99
MMPXY,2,3135,99
MMPXY,3,3135,3009
MMPXY,4,104,3009
MMPLL,1, 109.002168, 46.334207
MMPLL,2, 109.502749, 46.333300
MMPLL,3, 109.499960, 45.998996
MMPLL,4, 109.002404, 45.999940
MM1B,12.710340
MOP,Map Open Position,0,0
IWH,Map Image Width/Height,3239,3108
