OziExplorer Map Data File Version 2.2
100k--l49-061.gif
100k--l49-061.gif
1 ,Map Code,
Pulkovo 1942 (2),WGS 84, 0.0000, 0.0000,WGS 84
Reserved 1
Reserved 2
Magnetic Variation,,,E
Map Projection,Transverse Mercator,PolyCal,No,AutoCalOnly,No,BSBUseWPX,No
Point01,xy, 99, 92,in, deg, 46, 20.0000,N, 108, 0.0000,E, grid, , , ,N
Point02,xy, 1616, 92,in, deg, 46, 20.0000,N, 108, 15.0000,E, grid, , , ,N
Point03,xy, 3129, 87,in, deg, 46, 20.0000,N, 108, 30.0000,E, grid, , , ,N
Point04,xy, 98, 1544,in, deg, 46, 10.0000,N, 108, 0.0000,E, grid, , , ,N
Point05,xy, 1618, 1544,in, deg, 46, 10.0000,N, 108, 15.0000,E, grid, , , ,N
Point06,xy, 3135, 1540,in, deg, 46, 10.0000,N, 108, 30.0000,E, grid, , , ,N
Point07,xy, 97, 2998,in, deg, 46, 0.0000,N, 108, 0.0000,E, grid, , , ,N
Point08,xy, 1620, 2997,in, deg, 46, 0.0000,N, 108, 15.0000,E, grid, , , ,N
Point09,xy, 3142, 2994,in, deg, 46, 0.0000,N, 108, 30.0000,E, grid, , , ,N
Point10,xy, , ,in, deg, , ,N, , ,W, grid, , , ,N
Point11,xy, , ,in, deg, , ,N, , ,W, grid, , , ,N
Point12,xy, , ,in, deg, , ,N, , ,W, grid, , , ,N
Point13,xy, , ,in, deg, , ,N, , ,W, grid, , , ,N
Point14,xy, , ,in, deg, , ,N, , ,W, grid, , , ,N
Point15,xy, , ,in, deg, , ,N, , ,W, grid, , , ,N
Point16,xy, , ,in, deg, , ,N, , ,W, grid, , , ,N
Point17,xy, , ,in, deg, , ,N, , ,W, grid, , , ,N
Point18,xy, , ,in, deg, , ,N, , ,W, grid, , , ,N
Point19,xy, , ,in, deg, , ,N, , ,W, grid, , , ,N
Point20,xy, , ,in, deg, , ,N, , ,W, grid, , , ,N
Point21,xy, , ,in, deg, , ,N, , ,W, grid, , , ,N
Point22,xy, , ,in, deg, , ,N, , ,W, grid, , , ,N
Point23,xy, , ,in, deg, , ,N, , ,W, grid, , , ,N
Point24,xy, , ,in, deg, , ,N, , ,W, grid, , , ,N
Point25,xy, , ,in, deg, , ,N, , ,W, grid, , , ,N
Point26,xy, , ,in, deg, , ,N, , ,W, grid, , , ,N
Point27,xy, , ,in, deg, , ,N, , ,W, grid, , , ,N
Point28,xy, , ,in, deg, , ,N, , ,W, grid, , , ,N
Point29,xy, , ,in, deg, , ,N, , ,W, grid, , , ,N
Point30,xy, , ,in, deg, , ,N, , ,W, grid, , , ,N
Projection Setup, 0.000000000, 111.000000000, 1.000000000, 500000.00, 0.00,,,,,
Map Feature = MF ; Map Comment = MC These follow if they exist
Track File = TF These follow if they exist
Moving Map Parameters = MM? These follow if they exist
MM0,Yes
MMPNUM,4
MMPXY,1,104,99
MMPXY,2,3135,99
MMPXY,3,3135,2995
MMPXY,4,104,2995
MMPLL,1, 108.000574, 46.332454
MMPLL,2, 108.501035, 46.331988
MMPLL,3, 108.498708, 45.999774
MMPLL,4, 108.001254, 46.000303
MM1B,12.707379
MOP,Map Open Position,0,0
IWH,Map Image Width/Height,3239,3094
