OziExplorer Map Data File Version 2.2
100k--l49-056.gif
100k--l49-056.gif
1 ,Map Code,
Pulkovo 1942 (2),WGS 84, 0.0000, 0.0000,WGS 84
Reserved 1
Reserved 2
Magnetic Variation,,,E
Map Projection,Transverse Mercator,PolyCal,No,AutoCalOnly,No,BSBUseWPX,No
Point01,xy, 102, 92,in, deg, 46, 40.0000,N, 111, 30.0000,E, grid, , , ,N
Point02,xy, 1604, 97,in, deg, 46, 40.0000,N, 111, 45.0000,E, grid, , , ,N
Point03,xy, 3105, 92,in, deg, 46, 40.0000,N, 112, 0.0000,E, grid, , , ,N
Point04,xy, 98, 1548,in, deg, 46, 30.0000,N, 111, 30.0000,E, grid, , , ,N
Point05,xy, 1605, 1549,in, deg, 46, 30.0000,N, 111, 45.0000,E, grid, , , ,N
Point06,xy, 3110, 1548,in, deg, 46, 30.0000,N, 112, 0.0000,E, grid, , , ,N
Point07,xy, 92, 3000,in, deg, 46, 20.0000,N, 111, 30.0000,E, grid, , , ,N
Point08,xy, 1604, 3002,in, deg, 46, 20.0000,N, 111, 45.0000,E, grid, , , ,N
Point09,xy, 3116, 3003,in, deg, 46, 20.0000,N, 112, 0.0000,E, grid, , , ,N
Point10,xy, , ,in, deg, , ,N, , ,W, grid, , , ,N
Point11,xy, , ,in, deg, , ,N, , ,W, grid, , , ,N
Point12,xy, , ,in, deg, , ,N, , ,W, grid, , , ,N
Point13,xy, , ,in, deg, , ,N, , ,W, grid, , , ,N
Point14,xy, , ,in, deg, , ,N, , ,W, grid, , , ,N
Point15,xy, , ,in, deg, , ,N, , ,W, grid, , , ,N
Point16,xy, , ,in, deg, , ,N, , ,W, grid, , , ,N
Point17,xy, , ,in, deg, , ,N, , ,W, grid, , , ,N
Point18,xy, , ,in, deg, , ,N, , ,W, grid, , , ,N
Point19,xy, , ,in, deg, , ,N, , ,W, grid, , , ,N
Point20,xy, , ,in, deg, , ,N, , ,W, grid, , , ,N
Point21,xy, , ,in, deg, , ,N, , ,W, grid, , , ,N
Point22,xy, , ,in, deg, , ,N, , ,W, grid, , , ,N
Point23,xy, , ,in, deg, , ,N, , ,W, grid, , , ,N
Point24,xy, , ,in, deg, , ,N, , ,W, grid, , , ,N
Point25,xy, , ,in, deg, , ,N, , ,W, grid, , , ,N
Point26,xy, , ,in, deg, , ,N, , ,W, grid, , , ,N
Point27,xy, , ,in, deg, , ,N, , ,W, grid, , , ,N
Point28,xy, , ,in, deg, , ,N, , ,W, grid, , , ,N
Point29,xy, , ,in, deg, , ,N, , ,W, grid, , , ,N
Point30,xy, , ,in, deg, , ,N, , ,W, grid, , , ,N
Projection Setup, 0.000000000, 111.000000000, 1.000000000, 500000.00, 0.00,,,,,
Map Feature = MF ; Map Comment = MC These follow if they exist
Track File = TF These follow if they exist
Moving Map Parameters = MM? These follow if they exist
MM0,Yes
MMPNUM,4
MMPXY,1,102,99
MMPXY,2,3101,99
MMPXY,3,3101,2995
MMPXY,4,102,2995
MMPLL,1, 111.500014, 46.665936
MMPLL,2, 111.999210, 46.666043
MMPLL,3, 111.997643, 46.334098
MMPLL,4, 111.501476, 46.333972
MM1B,12.733537
MOP,Map Open Position,0,0
IWH,Map Image Width/Height,3203,3094
