OziExplorer Map Data File Version 2.2
100k--l49-034.gif
100k--l49-034.gif
1 ,Map Code,
Pulkovo 1942 (2),WGS 84, 0.0000, 0.0000,WGS 84
Reserved 1
Reserved 2
Magnetic Variation,,,E
Map Projection,Transverse Mercator,PolyCal,No,AutoCalOnly,No,BSBUseWPX,No
Point01,xy, 115, 92,in, deg, 47, 20.0000,N, 112, 30.0000,E, grid, , , ,N
Point02,xy, 1600, 100,in, deg, 47, 20.0000,N, 112, 45.0000,E, grid, , , ,N
Point03,xy, 3085, 100,in, deg, 47, 20.0000,N, 113, 0.0000,E, grid, , , ,N
Point04,xy, 106, 1546,in, deg, 47, 10.0000,N, 112, 30.0000,E, grid, , , ,N
Point05,xy, 1598, 1554,in, deg, 47, 10.0000,N, 112, 45.0000,E, grid, , , ,N
Point06,xy, 3088, 1554,in, deg, 47, 10.0000,N, 113, 0.0000,E, grid, , , ,N
Point07,xy, 98, 3000,in, deg, 47, 0.0000,N, 112, 30.0000,E, grid, , , ,N
Point08,xy, 1592, 3007,in, deg, 47, 0.0000,N, 112, 45.0000,E, grid, , , ,N
Point09,xy, 3088, 3009,in, deg, 47, 0.0000,N, 113, 0.0000,E, grid, , , ,N
Point10,xy, , ,in, deg, , ,N, , ,W, grid, , , ,N
Point11,xy, , ,in, deg, , ,N, , ,W, grid, , , ,N
Point12,xy, , ,in, deg, , ,N, , ,W, grid, , , ,N
Point13,xy, , ,in, deg, , ,N, , ,W, grid, , , ,N
Point14,xy, , ,in, deg, , ,N, , ,W, grid, , , ,N
Point15,xy, , ,in, deg, , ,N, , ,W, grid, , , ,N
Point16,xy, , ,in, deg, , ,N, , ,W, grid, , , ,N
Point17,xy, , ,in, deg, , ,N, , ,W, grid, , , ,N
Point18,xy, , ,in, deg, , ,N, , ,W, grid, , , ,N
Point19,xy, , ,in, deg, , ,N, , ,W, grid, , , ,N
Point20,xy, , ,in, deg, , ,N, , ,W, grid, , , ,N
Point21,xy, , ,in, deg, , ,N, , ,W, grid, , , ,N
Point22,xy, , ,in, deg, , ,N, , ,W, grid, , , ,N
Point23,xy, , ,in, deg, , ,N, , ,W, grid, , , ,N
Point24,xy, , ,in, deg, , ,N, , ,W, grid, , , ,N
Point25,xy, , ,in, deg, , ,N, , ,W, grid, , , ,N
Point26,xy, , ,in, deg, , ,N, , ,W, grid, , , ,N
Point27,xy, , ,in, deg, , ,N, , ,W, grid, , , ,N
Point28,xy, , ,in, deg, , ,N, , ,W, grid, , , ,N
Point29,xy, , ,in, deg, , ,N, , ,W, grid, , , ,N
Point30,xy, , ,in, deg, , ,N, , ,W, grid, , , ,N
Projection Setup, 0.000000000, 111.000000000, 1.000000000, 500000.00, 0.00,,,,,
Map Feature = MF ; Map Comment = MC These follow if they exist
Track File = TF These follow if they exist
Moving Map Parameters = MM? These follow if they exist
MM0,Yes
MMPNUM,4
MMPXY,1,102,99
MMPXY,2,3084,99
MMPXY,3,3084,3009
MMPXY,4,102,3009
MMPLL,1, 112.497875, 47.332576
MMPLL,2, 112.999663, 47.333516
MMPLL,3, 112.999331, 46.999978
MMPLL,4, 112.500676, 46.999001
MM1B,12.712242
MOP,Map Open Position,0,0
IWH,Map Image Width/Height,3186,3108
