OziExplorer Map Data File Version 2.2
100k--l49-025.gif
100k--l49-025.gif
1 ,Map Code,
Pulkovo 1942 (2),WGS 84, 0.0000, 0.0000,WGS 84
Reserved 1
Reserved 2
Magnetic Variation,,,E
Map Projection,Transverse Mercator,PolyCal,No,AutoCalOnly,No,BSBUseWPX,No
Point01,xy, 118, 94,in, deg, 47, 20.0000,N, 108, 0.0000,E, grid, , , ,N
Point02,xy, 1603, 102,in, deg, 47, 20.0000,N, 108, 15.0000,E, grid, , , ,N
Point03,xy, 3086, 108,in, deg, 47, 20.0000,N, 108, 30.0000,E, grid, , , ,N
Point04,xy, 107, 1544,in, deg, 47, 10.0000,N, 108, 0.0000,E, grid, , , ,N
Point05,xy, 1597, 1553,in, deg, 47, 10.0000,N, 108, 15.0000,E, grid, , , ,N
Point06,xy, 3086, 1556,in, deg, 47, 10.0000,N, 108, 30.0000,E, grid, , , ,N
Point07,xy, 98, 2994,in, deg, 47, 0.0000,N, 108, 0.0000,E, grid, , , ,N
Point08,xy, 1594, 3002,in, deg, 47, 0.0000,N, 108, 15.0000,E, grid, , , ,N
Point09,xy, 3088, 3003,in, deg, 47, 0.0000,N, 108, 30.0000,E, grid, , , ,N
Point10,xy, , ,in, deg, , ,N, , ,W, grid, , , ,N
Point11,xy, , ,in, deg, , ,N, , ,W, grid, , , ,N
Point12,xy, , ,in, deg, , ,N, , ,W, grid, , , ,N
Point13,xy, , ,in, deg, , ,N, , ,W, grid, , , ,N
Point14,xy, , ,in, deg, , ,N, , ,W, grid, , , ,N
Point15,xy, , ,in, deg, , ,N, , ,W, grid, , , ,N
Point16,xy, , ,in, deg, , ,N, , ,W, grid, , , ,N
Point17,xy, , ,in, deg, , ,N, , ,W, grid, , , ,N
Point18,xy, , ,in, deg, , ,N, , ,W, grid, , , ,N
Point19,xy, , ,in, deg, , ,N, , ,W, grid, , , ,N
Point20,xy, , ,in, deg, , ,N, , ,W, grid, , , ,N
Point21,xy, , ,in, deg, , ,N, , ,W, grid, , , ,N
Point22,xy, , ,in, deg, , ,N, , ,W, grid, , , ,N
Point23,xy, , ,in, deg, , ,N, , ,W, grid, , , ,N
Point24,xy, , ,in, deg, , ,N, , ,W, grid, , , ,N
Point25,xy, , ,in, deg, , ,N, , ,W, grid, , , ,N
Point26,xy, , ,in, deg, , ,N, , ,W, grid, , , ,N
Point27,xy, , ,in, deg, , ,N, , ,W, grid, , , ,N
Point28,xy, , ,in, deg, , ,N, , ,W, grid, , , ,N
Point29,xy, , ,in, deg, , ,N, , ,W, grid, , , ,N
Point30,xy, , ,in, deg, , ,N, , ,W, grid, , , ,N
Projection Setup, 0.000000000, 111.000000000, 1.000000000, 500000.00, 0.00,,,,,
Map Feature = MF ; Map Comment = MC These follow if they exist
Track File = TF These follow if they exist
Moving Map Parameters = MM? These follow if they exist
MM0,Yes
MMPNUM,4
MMPXY,1,102,99
MMPXY,2,3091,99
MMPXY,3,3091,3002
MMPXY,4,102,3002
MMPLL,1, 107.997461, 47.332832
MMPLL,2, 108.500710, 47.334214
MMPLL,3, 108.500651, 47.000316
MMPLL,4, 108.000547, 46.999005
MM1B,12.721188
MOP,Map Open Position,0,0
IWH,Map Image Width/Height,3193,3101
