OziExplorer Map Data File Version 2.2
100k--l49-023.gif
100k--l49-023.gif
1 ,Map Code,
Pulkovo 1942 (2),WGS 84, 0.0000, 0.0000,WGS 84
Reserved 1
Reserved 2
Magnetic Variation,,,E
Map Projection,Transverse Mercator,PolyCal,No,AutoCalOnly,No,BSBUseWPX,No
Point01,xy, 102, 98,in, deg, 47, 40.0000,N, 113, 0.0000,E, grid, , , ,N
Point02,xy, 1578, 100,in, deg, 47, 40.0000,N, 113, 15.0000,E, grid, , , ,N
Point03,xy, 3054, 96,in, deg, 47, 40.0000,N, 113, 30.0000,E, grid, , , ,N
Point04,xy, 101, 1554,in, deg, 47, 30.0000,N, 113, 0.0000,E, grid, , , ,N
Point05,xy, 1580, 1554,in, deg, 47, 30.0000,N, 113, 15.0000,E, grid, , , ,N
Point06,xy, 3062, 1548,in, deg, 47, 30.0000,N, 113, 30.0000,E, grid, , , ,N
Point07,xy, 100, 3010,in, deg, 47, 20.0000,N, 113, 0.0000,E, grid, , , ,N
Point08,xy, 1584, 3008,in, deg, 47, 20.0000,N, 113, 15.0000,E, grid, , , ,N
Point09,xy, 3070, 3004,in, deg, 47, 20.0000,N, 113, 30.0000,E, grid, , , ,N
Point10,xy, , ,in, deg, , ,N, , ,W, grid, , , ,N
Point11,xy, , ,in, deg, , ,N, , ,W, grid, , , ,N
Point12,xy, , ,in, deg, , ,N, , ,W, grid, , , ,N
Point13,xy, , ,in, deg, , ,N, , ,W, grid, , , ,N
Point14,xy, , ,in, deg, , ,N, , ,W, grid, , , ,N
Point15,xy, , ,in, deg, , ,N, , ,W, grid, , , ,N
Point16,xy, , ,in, deg, , ,N, , ,W, grid, , , ,N
Point17,xy, , ,in, deg, , ,N, , ,W, grid, , , ,N
Point18,xy, , ,in, deg, , ,N, , ,W, grid, , , ,N
Point19,xy, , ,in, deg, , ,N, , ,W, grid, , , ,N
Point20,xy, , ,in, deg, , ,N, , ,W, grid, , , ,N
Point21,xy, , ,in, deg, , ,N, , ,W, grid, , , ,N
Point22,xy, , ,in, deg, , ,N, , ,W, grid, , , ,N
Point23,xy, , ,in, deg, , ,N, , ,W, grid, , , ,N
Point24,xy, , ,in, deg, , ,N, , ,W, grid, , , ,N
Point25,xy, , ,in, deg, , ,N, , ,W, grid, , , ,N
Point26,xy, , ,in, deg, , ,N, , ,W, grid, , , ,N
Point27,xy, , ,in, deg, , ,N, , ,W, grid, , , ,N
Point28,xy, , ,in, deg, , ,N, , ,W, grid, , , ,N
Point29,xy, , ,in, deg, , ,N, , ,W, grid, , , ,N
Point30,xy, , ,in, deg, , ,N, , ,W, grid, , , ,N
Projection Setup, 0.000000000, 111.000000000, 1.000000000, 500000.00, 0.00,,,,,
Map Feature = MF ; Map Comment = MC These follow if they exist
Track File = TF These follow if they exist
Moving Map Parameters = MM? These follow if they exist
MM0,Yes
MMPNUM,4
MMPXY,1,101,99
MMPXY,2,3065,99
MMPXY,3,3065,3009
MMPXY,4,101,3009
MMPLL,1, 112.999817, 47.666715
MMPLL,2, 113.501910, 47.666149
MMPLL,3, 113.499198, 47.332772
MMPLL,4, 113.000275, 47.333281
MM1B,12.717434
MOP,Map Open Position,0,0
IWH,Map Image Width/Height,3166,3108
