OziExplorer Map Data File Version 2.2
100k--l49-021.gif
100k--l49-021.gif
1 ,Map Code,
Pulkovo 1942 (2),WGS 84, 0.0000, 0.0000,WGS 84
Reserved 1
Reserved 2
Magnetic Variation,,,E
Map Projection,Transverse Mercator,PolyCal,No,AutoCalOnly,No,BSBUseWPX,No
Point01,xy, 100, 95,in, deg, 47, 40.0000,N, 112, 0.0000,E, grid, , , ,N
Point02,xy, 1573, 95,in, deg, 47, 40.0000,N, 112, 15.0000,E, grid, , , ,N
Point03,xy, 3050, 92,in, deg, 47, 40.0000,N, 112, 30.0000,E, grid, , , ,N
Point04,xy, 98, 1550,in, deg, 47, 30.0000,N, 112, 0.0000,E, grid, , , ,N
Point05,xy, 1577, 1550,in, deg, 47, 30.0000,N, 112, 15.0000,E, grid, , , ,N
Point06,xy, 3057, 1545,in, deg, 47, 30.0000,N, 112, 30.0000,E, grid, , , ,N
Point07,xy, 95, 3004,in, deg, 47, 20.0000,N, 112, 0.0000,E, grid, , , ,N
Point08,xy, 1582, 3000,in, deg, 47, 20.0000,N, 112, 15.0000,E, grid, , , ,N
Point09,xy, 3067, 2998,in, deg, 47, 20.0000,N, 112, 30.0000,E, grid, , , ,N
Point10,xy, , ,in, deg, , ,N, , ,W, grid, , , ,N
Point11,xy, , ,in, deg, , ,N, , ,W, grid, , , ,N
Point12,xy, , ,in, deg, , ,N, , ,W, grid, , , ,N
Point13,xy, , ,in, deg, , ,N, , ,W, grid, , , ,N
Point14,xy, , ,in, deg, , ,N, , ,W, grid, , , ,N
Point15,xy, , ,in, deg, , ,N, , ,W, grid, , , ,N
Point16,xy, , ,in, deg, , ,N, , ,W, grid, , , ,N
Point17,xy, , ,in, deg, , ,N, , ,W, grid, , , ,N
Point18,xy, , ,in, deg, , ,N, , ,W, grid, , , ,N
Point19,xy, , ,in, deg, , ,N, , ,W, grid, , , ,N
Point20,xy, , ,in, deg, , ,N, , ,W, grid, , , ,N
Point21,xy, , ,in, deg, , ,N, , ,W, grid, , , ,N
Point22,xy, , ,in, deg, , ,N, , ,W, grid, , , ,N
Point23,xy, , ,in, deg, , ,N, , ,W, grid, , , ,N
Point24,xy, , ,in, deg, , ,N, , ,W, grid, , , ,N
Point25,xy, , ,in, deg, , ,N, , ,W, grid, , , ,N
Point26,xy, , ,in, deg, , ,N, , ,W, grid, , , ,N
Point27,xy, , ,in, deg, , ,N, , ,W, grid, , , ,N
Point28,xy, , ,in, deg, , ,N, , ,W, grid, , , ,N
Point29,xy, , ,in, deg, , ,N, , ,W, grid, , , ,N
Point30,xy, , ,in, deg, , ,N, , ,W, grid, , , ,N
Projection Setup, 0.000000000, 111.000000000, 1.000000000, 500000.00, 0.00,,,,,
Map Feature = MF ; Map Comment = MC These follow if they exist
Track File = TF These follow if they exist
Moving Map Parameters = MM? These follow if they exist
MM0,Yes
MMPNUM,4
MMPXY,1,101,99
MMPXY,2,3065,99
MMPXY,3,3065,2995
MMPXY,4,101,2995
MMPLL,1, 112.000393, 47.666315
MMPLL,2, 112.502594, 47.665757
MMPLL,3, 112.499832, 47.333669
MMPLL,4, 112.000788, 47.334192
MM1B,12.720604
MOP,Map Open Position,0,0
IWH,Map Image Width/Height,3166,3094
