OziExplorer Map Data File Version 2.2
100k--l49-015.gif
100k--l49-015.gif
1 ,Map Code,
Pulkovo 1942 (2),WGS 84, 0.0000, 0.0000,WGS 84
Reserved 1
Reserved 2
Magnetic Variation,,,E
Map Projection,Transverse Mercator,PolyCal,No,AutoCalOnly,No,BSBUseWPX,No
Point01,xy, 119, 92,in, deg, 47, 40.0000,N, 109, 0.0000,E, grid, , , ,N
Point02,xy, 1592, 100,in, deg, 47, 40.0000,N, 109, 15.0000,E, grid, , , ,N
Point03,xy, 3066, 104,in, deg, 47, 40.0000,N, 109, 30.0000,E, grid, , , ,N
Point04,xy, 108, 1556,in, deg, 47, 30.0000,N, 109, 0.0000,E, grid, , , ,N
Point05,xy, 1587, 1562,in, deg, 47, 30.0000,N, 109, 15.0000,E, grid, , , ,N
Point06,xy, 3067, 1566,in, deg, 47, 30.0000,N, 109, 30.0000,E, grid, , , ,N
Point07,xy, 100, 3009,in, deg, 47, 20.0000,N, 109, 0.0000,E, grid, , , ,N
Point08,xy, 1585, 3015,in, deg, 47, 20.0000,N, 109, 15.0000,E, grid, , , ,N
Point09,xy, 3070, 3020,in, deg, 47, 20.0000,N, 109, 30.0000,E, grid, , , ,N
Point10,xy, , ,in, deg, , ,N, , ,W, grid, , , ,N
Point11,xy, , ,in, deg, , ,N, , ,W, grid, , , ,N
Point12,xy, , ,in, deg, , ,N, , ,W, grid, , , ,N
Point13,xy, , ,in, deg, , ,N, , ,W, grid, , , ,N
Point14,xy, , ,in, deg, , ,N, , ,W, grid, , , ,N
Point15,xy, , ,in, deg, , ,N, , ,W, grid, , , ,N
Point16,xy, , ,in, deg, , ,N, , ,W, grid, , , ,N
Point17,xy, , ,in, deg, , ,N, , ,W, grid, , , ,N
Point18,xy, , ,in, deg, , ,N, , ,W, grid, , , ,N
Point19,xy, , ,in, deg, , ,N, , ,W, grid, , , ,N
Point20,xy, , ,in, deg, , ,N, , ,W, grid, , , ,N
Point21,xy, , ,in, deg, , ,N, , ,W, grid, , , ,N
Point22,xy, , ,in, deg, , ,N, , ,W, grid, , , ,N
Point23,xy, , ,in, deg, , ,N, , ,W, grid, , , ,N
Point24,xy, , ,in, deg, , ,N, , ,W, grid, , , ,N
Point25,xy, , ,in, deg, , ,N, , ,W, grid, , , ,N
Point26,xy, , ,in, deg, , ,N, , ,W, grid, , , ,N
Point27,xy, , ,in, deg, , ,N, , ,W, grid, , , ,N
Point28,xy, , ,in, deg, , ,N, , ,W, grid, , , ,N
Point29,xy, , ,in, deg, , ,N, , ,W, grid, , , ,N
Point30,xy, , ,in, deg, , ,N, , ,W, grid, , , ,N
Projection Setup, 0.000000000, 111.000000000, 1.000000000, 500000.00, 0.00,,,,,
Map Feature = MF ; Map Comment = MC These follow if they exist
Track File = TF These follow if they exist
Moving Map Parameters = MM? These follow if they exist
MM0,Yes
MMPNUM,4
MMPXY,1,101,100
MMPXY,2,3065,100
MMPXY,3,3065,3014
MMPXY,4,101,3014
MMPLL,1, 108.997253, 47.665951
MMPLL,2, 109.499739, 47.667237
MMPLL,3, 109.499399, 47.334116
MMPLL,4, 109.000081, 47.332876
MM1B,12.728184
MOP,Map Open Position,0,0
IWH,Map Image Width/Height,3166,3114
