OziExplorer Map Data File Version 2.2
100k--l49-006.gif
100k--l49-006.gif
1 ,Map Code,
Pulkovo 1942 (2),WGS 84, 0.0000, 0.0000,WGS 84
Reserved 1
Reserved 2
Magnetic Variation,,,E
Map Projection,Transverse Mercator,PolyCal,No,AutoCalOnly,No,BSBUseWPX,No
Point01,xy, 101, 82,in, deg, 48, 0.0000,N, 110, 30.0000,E, grid, , , ,N
Point02,xy, 1565, 89,in, deg, 48, 0.0000,N, 110, 45.0000,E, grid, , , ,N
Point03,xy, 3032, 92,in, deg, 48, 0.0000,N, 111, 0.0000,E, grid, , , ,N
Point04,xy, 93, 1540,in, deg, 47, 50.0000,N, 110, 30.0000,E, grid, , , ,N
Point05,xy, 1561, 1547,in, deg, 47, 50.0000,N, 110, 45.0000,E, grid, , , ,N
Point06,xy, 3034, 1548,in, deg, 47, 50.0000,N, 111, 0.0000,E, grid, , , ,N
Point07,xy, 88, 2992,in, deg, 47, 40.0000,N, 110, 30.0000,E, grid, , , ,N
Point08,xy, 1560, 2998,in, deg, 47, 40.0000,N, 110, 45.0000,E, grid, , , ,N
Point09,xy, 3037, 3001,in, deg, 47, 40.0000,N, 111, 0.0000,E, grid, , , ,N
Point10,xy, , ,in, deg, , ,N, , ,W, grid, , , ,N
Point11,xy, , ,in, deg, , ,N, , ,W, grid, , , ,N
Point12,xy, , ,in, deg, , ,N, , ,W, grid, , , ,N
Point13,xy, , ,in, deg, , ,N, , ,W, grid, , , ,N
Point14,xy, , ,in, deg, , ,N, , ,W, grid, , , ,N
Point15,xy, , ,in, deg, , ,N, , ,W, grid, , , ,N
Point16,xy, , ,in, deg, , ,N, , ,W, grid, , , ,N
Point17,xy, , ,in, deg, , ,N, , ,W, grid, , , ,N
Point18,xy, , ,in, deg, , ,N, , ,W, grid, , , ,N
Point19,xy, , ,in, deg, , ,N, , ,W, grid, , , ,N
Point20,xy, , ,in, deg, , ,N, , ,W, grid, , , ,N
Point21,xy, , ,in, deg, , ,N, , ,W, grid, , , ,N
Point22,xy, , ,in, deg, , ,N, , ,W, grid, , , ,N
Point23,xy, , ,in, deg, , ,N, , ,W, grid, , , ,N
Point24,xy, , ,in, deg, , ,N, , ,W, grid, , , ,N
Point25,xy, , ,in, deg, , ,N, , ,W, grid, , , ,N
Point26,xy, , ,in, deg, , ,N, , ,W, grid, , , ,N
Point27,xy, , ,in, deg, , ,N, , ,W, grid, , , ,N
Point28,xy, , ,in, deg, , ,N, , ,W, grid, , , ,N
Point29,xy, , ,in, deg, , ,N, , ,W, grid, , , ,N
Point30,xy, , ,in, deg, , ,N, , ,W, grid, , , ,N
Projection Setup, 0.000000000, 111.000000000, 1.000000000, 500000.00, 0.00,,,,,
Map Feature = MF ; Map Comment = MC These follow if they exist
Track File = TF These follow if they exist
Moving Map Parameters = MM? These follow if they exist
MM0,Yes
MMPNUM,4
MMPXY,1,100,98
MMPXY,2,3029,98
MMPXY,3,3029,2980
MMPXY,4,100,2980
MMPLL,1, 110.499985, 47.998311
MMPLL,2, 110.999645, 47.999342
MMPLL,3, 110.998794, 47.669141
MMPLL,4, 110.502294, 47.668119
MM1B,12.725907
MOP,Map Open Position,0,0
IWH,Map Image Width/Height,3129,3078
