OziExplorer Map Data File Version 2.2
100k--l36-005.gif
100k--l36-005.gif
1 ,Map Code,
Pulkovo 1942 (2),WGS 84, 0.0000, 0.0000,WGS 84
Reserved 1
Reserved 2
Magnetic Variation,,,E
Map Projection,Transverse Mercator,PolyCal,No,AutoCalOnly,No,BSBUseWPX,No
Point01,xy, 74, 77,in, deg, 48, 0.0000,N, 32, 0.0000,E, grid, , , ,N
Point02,xy, 1178, 77,in, deg, 48, 0.0000,N, 32, 15.0000,E, grid, , , ,N
Point03,xy, 2281, 73,in, deg, 48, 0.0000,N, 32, 30.0000,E, grid, , , ,N
Point04,xy, 73, 1171,in, deg, 47, 50.0000,N, 32, 0.0000,E, grid, , , ,N
Point05,xy, 1182, 1169,in, deg, 47, 50.0000,N, 32, 15.0000,E, grid, , , ,N
Point06,xy, 2288, 1164,in, deg, 47, 50.0000,N, 32, 30.0000,E, grid, , , ,N
Point07,xy, 72, 2267,in, deg, 47, 40.0000,N, 32, 0.0000,E, grid, , , ,N
Point08,xy, 1185, 2265,in, deg, 47, 40.0000,N, 32, 15.0000,E, grid, , , ,N
Point09,xy, 2294, 2261,in, deg, 47, 40.0000,N, 32, 30.0000,E, grid, , , ,N
Point10,xy, , ,in, deg, , ,N, , ,W, grid, , , ,N
Point11,xy, , ,in, deg, , ,N, , ,W, grid, , , ,N
Point12,xy, , ,in, deg, , ,N, , ,W, grid, , , ,N
Point13,xy, , ,in, deg, , ,N, , ,W, grid, , , ,N
Point14,xy, , ,in, deg, , ,N, , ,W, grid, , , ,N
Point15,xy, , ,in, deg, , ,N, , ,W, grid, , , ,N
Point16,xy, , ,in, deg, , ,N, , ,W, grid, , , ,N
Point17,xy, , ,in, deg, , ,N, , ,W, grid, , , ,N
Point18,xy, , ,in, deg, , ,N, , ,W, grid, , , ,N
Point19,xy, , ,in, deg, , ,N, , ,W, grid, , , ,N
Point20,xy, , ,in, deg, , ,N, , ,W, grid, , , ,N
Point21,xy, , ,in, deg, , ,N, , ,W, grid, , , ,N
Point22,xy, , ,in, deg, , ,N, , ,W, grid, , , ,N
Point23,xy, , ,in, deg, , ,N, , ,W, grid, , , ,N
Point24,xy, , ,in, deg, , ,N, , ,W, grid, , , ,N
Point25,xy, , ,in, deg, , ,N, , ,W, grid, , , ,N
Point26,xy, , ,in, deg, , ,N, , ,W, grid, , , ,N
Point27,xy, , ,in, deg, , ,N, , ,W, grid, , , ,N
Point28,xy, , ,in, deg, , ,N, , ,W, grid, , , ,N
Point29,xy, , ,in, deg, , ,N, , ,W, grid, , , ,N
Point30,xy, , ,in, deg, , ,N, , ,W, grid, , , ,N
Projection Setup, 0.000000000, 33.000000000, 1.000000000, 500000.00, 0.00,,,,,
Map Feature = MF ; Map Comment = MC These follow if they exist
Track File = TF These follow if they exist
Moving Map Parameters = MM? These follow if they exist
MM0,Yes
MMPNUM,4
MMPXY,1,74,77
MMPXY,2,2281,73
MMPXY,3,2294,2261
MMPXY,4,72,2267
MMPLL,1, 32.000000, 48.000000
MMPLL,2, 32.500000, 48.000000
MMPLL,3, 32.500000, 47.666667
MMPLL,4, 32.000000, 47.666667
MM1B,15.886647
MOP,Map Open Position,0,0
IWH,Map Image Width/Height,2366,2329
