OziExplorer Map Data File Version 2.2
100k--k43-141--(1976).gif
100k--k43-141--(1976).gif
1 ,Map Code,
Pulkovo 1942 (2),WGS 84, 0.0000, 0.0000,WGS 84
Reserved 1
Reserved 2
Magnetic Variation,,,E
Map Projection,Transverse Mercator,PolyCal,No,AutoCalOnly,No,BSBUseWPX,No
Point01,xy, 124, 97,in, deg, 40, 20.0000,N, 76, 0.0000,E, grid, , , ,N
Point02,xy, 1820, 106,in, deg, 40, 20.0000,N, 76, 15.0000,E, grid, , , ,N
Point03,xy, 3516, 108,in, deg, 40, 20.0000,N, 76, 30.0000,E, grid, , , ,N
Point04,xy, 110, 1572,in, deg, 40, 10.0000,N, 76, 0.0000,E, grid, , , ,N
Point05,xy, 1816, 1582,in, deg, 40, 10.0000,N, 76, 15.0000,E, grid, , , ,N
Point06,xy, 3516, 1585,in, deg, 40, 10.0000,N, 76, 30.0000,E, grid, , , ,N
Point07,xy, 101, 3055,in, deg, 40, 0.0000,N, 76, 0.0000,E, grid, , , ,N
Point08,xy, 1808, 3063,in, deg, 40, 0.0000,N, 76, 15.0000,E, grid, , , ,N
Point09,xy, 3512, 3067,in, deg, 40, 0.0000,N, 76, 30.0000,E, grid, , , ,N
Point10,xy, , ,in, deg, , ,N, , ,W, grid, , , ,N
Point11,xy, , ,in, deg, , ,N, , ,W, grid, , , ,N
Point12,xy, , ,in, deg, , ,N, , ,W, grid, , , ,N
Point13,xy, , ,in, deg, , ,N, , ,W, grid, , , ,N
Point14,xy, , ,in, deg, , ,N, , ,W, grid, , , ,N
Point15,xy, , ,in, deg, , ,N, , ,W, grid, , , ,N
Point16,xy, , ,in, deg, , ,N, , ,W, grid, , , ,N
Point17,xy, , ,in, deg, , ,N, , ,W, grid, , , ,N
Point18,xy, , ,in, deg, , ,N, , ,W, grid, , , ,N
Point19,xy, , ,in, deg, , ,N, , ,W, grid, , , ,N
Point20,xy, , ,in, deg, , ,N, , ,W, grid, , , ,N
Point21,xy, , ,in, deg, , ,N, , ,W, grid, , , ,N
Point22,xy, , ,in, deg, , ,N, , ,W, grid, , , ,N
Point23,xy, , ,in, deg, , ,N, , ,W, grid, , , ,N
Point24,xy, , ,in, deg, , ,N, , ,W, grid, , , ,N
Point25,xy, , ,in, deg, , ,N, , ,W, grid, , , ,N
Point26,xy, , ,in, deg, , ,N, , ,W, grid, , , ,N
Point27,xy, , ,in, deg, , ,N, , ,W, grid, , , ,N
Point28,xy, , ,in, deg, , ,N, , ,W, grid, , , ,N
Point29,xy, , ,in, deg, , ,N, , ,W, grid, , , ,N
Point30,xy, , ,in, deg, , ,N, , ,W, grid, , , ,N
Projection Setup, 0.000000000, 75.000000000, 1.000000000, 500000.00, 0.00,,,,,
Map Feature = MF ; Map Comment = MC These follow if they exist
Track File = TF These follow if they exist
Moving Map Parameters = MM? These follow if they exist
MM0,Yes
MMPNUM,4
MMPXY,1,116,101
MMPXY,2,3507,101
MMPXY,3,3507,3061
MMPXY,4,116,3061
MMPLL,1, 75.998998, 40.332760
MMPLL,2, 76.498451, 40.334095
MMPLL,3, 76.499144, 40.000558
MMPLL,4, 76.002131, 39.999195
MM1B,12.511151
MOP,Map Open Position,0,0
IWH,Map Image Width/Height,3623,3162
