OziExplorer Map Data File Version 2.2
100k--k43-110.gif
100k--k43-110.gif
1 ,Map Code,
Pulkovo 1942 (2),WGS 84, 0.0000, 0.0000,WGS 84
Reserved 1
Reserved 2
Magnetic Variation,,,E
Map Projection,Transverse Mercator,PolyCal,No,AutoCalOnly,No,BSBUseWPX,No
Point01,xy, 100, 90,in, deg, 41, 0.0000,N, 72, 30.0000,E, grid, , , ,N
Point02,xy, 1739, 95,in, deg, 41, 0.0000,N, 72, 45.0000,E, grid, , , ,N
Point03,xy, 3387, 95,in, deg, 41, 0.0000,N, 73, 0.0000,E, grid, , , ,N
Point04,xy, 95, 1538,in, deg, 40, 50.0000,N, 72, 30.0000,E, grid, , , ,N
Point05,xy, 1741, 1545,in, deg, 40, 50.0000,N, 72, 45.0000,E, grid, , , ,N
Point06,xy, 3390, 1543,in, deg, 40, 50.0000,N, 73, 0.0000,E, grid, , , ,N
Point07,xy, 89, 2987,in, deg, 40, 40.0000,N, 72, 30.0000,E, grid, , , ,N
Point08,xy, 1742, 2997,in, deg, 40, 40.0000,N, 72, 45.0000,E, grid, , , ,N
Point09,xy, 3395, 2991,in, deg, 40, 40.0000,N, 73, 0.0000,E, grid, , , ,N
Point10,xy, , ,in, deg, , ,N, , ,W, grid, , , ,N
Point11,xy, , ,in, deg, , ,N, , ,W, grid, , , ,N
Point12,xy, , ,in, deg, , ,N, , ,W, grid, , , ,N
Point13,xy, , ,in, deg, , ,N, , ,W, grid, , , ,N
Point14,xy, , ,in, deg, , ,N, , ,W, grid, , , ,N
Point15,xy, , ,in, deg, , ,N, , ,W, grid, , , ,N
Point16,xy, , ,in, deg, , ,N, , ,W, grid, , , ,N
Point17,xy, , ,in, deg, , ,N, , ,W, grid, , , ,N
Point18,xy, , ,in, deg, , ,N, , ,W, grid, , , ,N
Point19,xy, , ,in, deg, , ,N, , ,W, grid, , , ,N
Point20,xy, , ,in, deg, , ,N, , ,W, grid, , , ,N
Point21,xy, , ,in, deg, , ,N, , ,W, grid, , , ,N
Point22,xy, , ,in, deg, , ,N, , ,W, grid, , , ,N
Point23,xy, , ,in, deg, , ,N, , ,W, grid, , , ,N
Point24,xy, , ,in, deg, , ,N, , ,W, grid, , , ,N
Point25,xy, , ,in, deg, , ,N, , ,W, grid, , , ,N
Point26,xy, , ,in, deg, , ,N, , ,W, grid, , , ,N
Point27,xy, , ,in, deg, , ,N, , ,W, grid, , , ,N
Point28,xy, , ,in, deg, , ,N, , ,W, grid, , , ,N
Point29,xy, , ,in, deg, , ,N, , ,W, grid, , , ,N
Point30,xy, , ,in, deg, , ,N, , ,W, grid, , , ,N
Projection Setup, 0.000000000, 75.000000000, 1.000000000, 500000.00, 0.00,,,,,
Map Feature = MF ; Map Comment = MC These follow if they exist
Track File = TF These follow if they exist
Moving Map Parameters = MM? These follow if they exist
MM0,Yes
MMPNUM,4
MMPXY,1,100,90
MMPXY,2,3387,95
MMPXY,3,3395,2991
MMPXY,4,89,2987
MMPLL,1, 72.500000, 41.000000
MMPLL,2, 73.000000, 41.000000
MMPLL,3, 73.000000, 40.666667
MMPLL,4, 72.500000, 40.666667
MM1B,12.001297
MOP,Map Open Position,0,0
IWH,Map Image Width/Height,3483,3083
