OziExplorer Map Data File Version 2.2
100k--k43-090.gif
100k--k43-090.gif
1 ,Map Code,
Pulkovo 1942 (2),WGS 84, 0.0000, 0.0000,WGS 84
Reserved 1
Reserved 2
Magnetic Variation,,,E
Map Projection,Transverse Mercator,PolyCal,No,AutoCalOnly,No,BSBUseWPX,No
Point01,xy, 112, 98,in, deg, 41, 40.0000,N, 74, 30.0000,E, grid, , , ,N
Point02,xy, 1750, 104,in, deg, 41, 40.0000,N, 74, 45.0000,E, grid, , , ,N
Point03,xy, 3393, 107,in, deg, 41, 40.0000,N, 75, 0.0000,E, grid, , , ,N
Point04,xy, 109, 1562,in, deg, 41, 30.0000,N, 74, 30.0000,E, grid, , , ,N
Point05,xy, 1734, 1576,ex, deg, 41, 30.0000,N, 74, 45.0000,E, grid, , , ,N
Point06,xy, 3396, 1569,in, deg, 41, 30.0000,N, 75, 0.0000,E, grid, , , ,N
Point07,xy, 103, 3024,in, deg, 41, 20.0000,N, 74, 30.0000,E, grid, , , ,N
Point08,xy, 1754, 3034,in, deg, 41, 20.0000,N, 74, 45.0000,E, grid, , , ,N
Point09,xy, 3402, 3032,in, deg, 41, 20.0000,N, 75, 0.0000,E, grid, , , ,N
Point10,xy, , ,in, deg, , ,N, , ,W, grid, , , ,N
Point11,xy, , ,in, deg, , ,N, , ,W, grid, , , ,N
Point12,xy, , ,in, deg, , ,N, , ,W, grid, , , ,N
Point13,xy, , ,in, deg, , ,N, , ,W, grid, , , ,N
Point14,xy, , ,in, deg, , ,N, , ,W, grid, , , ,N
Point15,xy, , ,in, deg, , ,N, , ,W, grid, , , ,N
Point16,xy, , ,in, deg, , ,N, , ,W, grid, , , ,N
Point17,xy, , ,in, deg, , ,N, , ,W, grid, , , ,N
Point18,xy, , ,in, deg, , ,N, , ,W, grid, , , ,N
Point19,xy, , ,in, deg, , ,N, , ,W, grid, , , ,N
Point20,xy, , ,in, deg, , ,N, , ,W, grid, , , ,N
Point21,xy, , ,in, deg, , ,N, , ,W, grid, , , ,N
Point22,xy, , ,in, deg, , ,N, , ,W, grid, , , ,N
Point23,xy, , ,in, deg, , ,N, , ,W, grid, , , ,N
Point24,xy, , ,in, deg, , ,N, , ,W, grid, , , ,N
Point25,xy, , ,in, deg, , ,N, , ,W, grid, , , ,N
Point26,xy, , ,in, deg, , ,N, , ,W, grid, , , ,N
Point27,xy, , ,in, deg, , ,N, , ,W, grid, , , ,N
Point28,xy, , ,in, deg, , ,N, , ,W, grid, , , ,N
Point29,xy, , ,in, deg, , ,N, , ,W, grid, , , ,N
Point30,xy, , ,in, deg, , ,N, , ,W, grid, , , ,N
Projection Setup, 0.000000000, 75.000000000, 1.000000000, 500000.00, 0.00,,,,,
Map Feature = MF ; Map Comment = MC These follow if they exist
Track File = TF These follow if they exist
Moving Map Parameters = MM? These follow if they exist
MM0,Yes
MMPNUM,4
MMPXY,1,112,100
MMPXY,2,3389,100
MMPXY,3,3389,3029
MMPXY,4,112,3029
MMPLL,1, 74.500088, 41.666455
MMPLL,2, 74.999547, 41.667367
MMPLL,3, 74.998068, 41.333806
MMPLL,4, 74.501165, 41.332900
MM1B,12.688464
MOP,Map Open Position,0,0
IWH,Map Image Width/Height,3501,3129
