OziExplorer Map Data File Version 2.2
100k--k43-087.gif
100k--k43-087.gif
1 ,Map Code,
Pulkovo 1942 (2),WGS 84, 0.0000, 0.0000,WGS 84
Reserved 1
Reserved 2
Magnetic Variation,,,E
Map Projection,Transverse Mercator,PolyCal,No,AutoCalOnly,No,BSBUseWPX,No
Point01,xy, 102, 100,in, deg, 41, 40.0000,N, 73, 0.0000,E, grid, , , ,N
Point02,xy, 1742, 100,in, deg, 41, 40.0000,N, 73, 15.0000,E, grid, , , ,N
Point03,xy, 3385, 99,in, deg, 41, 40.0000,N, 73, 30.0000,E, grid, , , ,N
Point04,xy, 104, 1558,in, deg, 41, 30.0000,N, 73, 0.0000,E, grid, , , ,N
Point05,xy, 1745, 1563,in, deg, 41, 30.0000,N, 73, 15.0000,E, grid, , , ,N
Point06,xy, 3392, 1560,in, deg, 41, 30.0000,N, 73, 30.0000,E, grid, , , ,N
Point07,xy, 102, 3024,in, deg, 41, 20.0000,N, 73, 0.0000,E, grid, , , ,N
Point08,xy, 1750, 3027,in, deg, 41, 20.0000,N, 73, 15.0000,E, grid, , , ,N
Point09,xy, 3400, 3021,in, deg, 41, 20.0000,N, 73, 30.0000,E, grid, , , ,N
Point10,xy, , ,in, deg, , ,N, , ,W, grid, , , ,N
Point11,xy, , ,in, deg, , ,N, , ,W, grid, , , ,N
Point12,xy, , ,in, deg, , ,N, , ,W, grid, , , ,N
Point13,xy, , ,in, deg, , ,N, , ,W, grid, , , ,N
Point14,xy, , ,in, deg, , ,N, , ,W, grid, , , ,N
Point15,xy, , ,in, deg, , ,N, , ,W, grid, , , ,N
Point16,xy, , ,in, deg, , ,N, , ,W, grid, , , ,N
Point17,xy, , ,in, deg, , ,N, , ,W, grid, , , ,N
Point18,xy, , ,in, deg, , ,N, , ,W, grid, , , ,N
Point19,xy, , ,in, deg, , ,N, , ,W, grid, , , ,N
Point20,xy, , ,in, deg, , ,N, , ,W, grid, , , ,N
Point21,xy, , ,in, deg, , ,N, , ,W, grid, , , ,N
Point22,xy, , ,in, deg, , ,N, , ,W, grid, , , ,N
Point23,xy, , ,in, deg, , ,N, , ,W, grid, , , ,N
Point24,xy, , ,in, deg, , ,N, , ,W, grid, , , ,N
Point25,xy, , ,in, deg, , ,N, , ,W, grid, , , ,N
Point26,xy, , ,in, deg, , ,N, , ,W, grid, , , ,N
Point27,xy, , ,in, deg, , ,N, , ,W, grid, , , ,N
Point28,xy, , ,in, deg, , ,N, , ,W, grid, , , ,N
Point29,xy, , ,in, deg, , ,N, , ,W, grid, , , ,N
Point30,xy, , ,in, deg, , ,N, , ,W, grid, , , ,N
Projection Setup, 0.000000000, 75.000000000, 1.000000000, 500000.00, 0.00,,,,,
Map Feature = MF ; Map Comment = MC These follow if they exist
Track File = TF These follow if they exist
Moving Map Parameters = MM? These follow if they exist
MM0,Yes
MMPNUM,4
MMPXY,1,112,100
MMPXY,2,3390,100
MMPXY,3,3390,3029
MMPXY,4,112,3029
MMPLL,1, 73.001457, 41.666509
MMPLL,2, 73.500964, 41.666452
MMPLL,3, 73.498514, 41.332568
MMPLL,4, 73.001567, 41.332669
MM1B,12.686458
MOP,Map Open Position,0,0
IWH,Map Image Width/Height,3502,3129
