OziExplorer Map Data File Version 2.2
100k--k43-084.gif
100k--k43-084.gif
1 ,Map Code,
Pulkovo 1942 (2),WGS 84, 0.0000, 0.0000,WGS 84
Reserved 1
Reserved 2
Magnetic Variation,,,E
Map Projection,Transverse Mercator,PolyCal,No,AutoCalOnly,No,BSBUseWPX,No
Point01,xy, 98, 110,in, deg, 42, 0.0000,N, 77, 30.0000,E, grid, , , ,N
Point02,xy, 1734, 104,in, deg, 42, 0.0000,N, 77, 45.0000,E, grid, , , ,N
Point03,xy, 3366, 94,in, deg, 42, 0.0000,N, 78, 0.0000,E, grid, , , ,N
Point04,xy, 108, 1574,in, deg, 41, 50.0000,N, 77, 30.0000,E, grid, , , ,N
Point05,xy, 1744, 1571,in, deg, 41, 50.0000,N, 77, 45.0000,E, grid, , , ,N
Point06,xy, 3380, 1556,in, deg, 41, 50.0000,N, 78, 0.0000,E, grid, , , ,N
Point07,xy, 114, 3038,in, deg, 41, 40.0000,N, 77, 30.0000,E, grid, , , ,N
Point08,xy, 1757, 3036,in, deg, 41, 40.0000,N, 77, 45.0000,E, grid, , , ,N
Point09,xy, 3396, 3024,in, deg, 41, 40.0000,N, 78, 0.0000,E, grid, , , ,N
Point10,xy, , ,in, deg, , ,N, , ,W, grid, , , ,N
Point11,xy, , ,in, deg, , ,N, , ,W, grid, , , ,N
Point12,xy, , ,in, deg, , ,N, , ,W, grid, , , ,N
Point13,xy, , ,in, deg, , ,N, , ,W, grid, , , ,N
Point14,xy, , ,in, deg, , ,N, , ,W, grid, , , ,N
Point15,xy, , ,in, deg, , ,N, , ,W, grid, , , ,N
Point16,xy, , ,in, deg, , ,N, , ,W, grid, , , ,N
Point17,xy, , ,in, deg, , ,N, , ,W, grid, , , ,N
Point18,xy, , ,in, deg, , ,N, , ,W, grid, , , ,N
Point19,xy, , ,in, deg, , ,N, , ,W, grid, , , ,N
Point20,xy, , ,in, deg, , ,N, , ,W, grid, , , ,N
Point21,xy, , ,in, deg, , ,N, , ,W, grid, , , ,N
Point22,xy, , ,in, deg, , ,N, , ,W, grid, , , ,N
Point23,xy, , ,in, deg, , ,N, , ,W, grid, , , ,N
Point24,xy, , ,in, deg, , ,N, , ,W, grid, , , ,N
Point25,xy, , ,in, deg, , ,N, , ,W, grid, , , ,N
Point26,xy, , ,in, deg, , ,N, , ,W, grid, , , ,N
Point27,xy, , ,in, deg, , ,N, , ,W, grid, , , ,N
Point28,xy, , ,in, deg, , ,N, , ,W, grid, , , ,N
Point29,xy, , ,in, deg, , ,N, , ,W, grid, , , ,N
Point30,xy, , ,in, deg, , ,N, , ,W, grid, , , ,N
Projection Setup, 0.000000000, 75.000000000, 1.000000000, 500000.00, 0.00,,,,,
Map Feature = MF ; Map Comment = MC These follow if they exist
Track File = TF These follow if they exist
Moving Map Parameters = MM? These follow if they exist
MM0,Yes
MMPNUM,4
MMPXY,1,112,100
MMPXY,2,3383,100
MMPXY,3,3383,3036
MMPXY,4,112,3036
MMPLL,1, 77.501865, 42.001111
MMPLL,2, 78.002691, 41.999243
MMPLL,3, 77.997869, 41.665290
MMPLL,4, 77.499643, 41.667064
MM1B,12.684040
MOP,Map Open Position,0,0
IWH,Map Image Width/Height,3495,3136
