OziExplorer Map Data File Version 2.2
100k--k43-081.gif
100k--k43-081.gif
1 ,Map Code,
Pulkovo 1942 (2),WGS 84, 0.0000, 0.0000,WGS 84
Reserved 1
Reserved 2
Magnetic Variation,,,E
Map Projection,Transverse Mercator,PolyCal,No,AutoCalOnly,No,BSBUseWPX,No
Point01,xy, 97, 88,in, deg, 42, 0.0000,N, 76, 0.0000,E, grid, , , ,N
Point02,xy, 1716, 88,in, deg, 42, 0.0000,N, 76, 15.0000,E, grid, , , ,N
Point03,xy, 3334, 89,in, deg, 42, 0.0000,N, 76, 30.0000,E, grid, , , ,N
Point04,xy, 98, 1538,in, deg, 41, 50.0000,N, 76, 0.0000,E, grid, , , ,N
Point05,xy, 1728, 1536,ex, deg, 41, 50.0000,N, 76, 15.0000,E, grid, , , ,N
Point06,xy, 3340, 1536,in, deg, 41, 50.0000,N, 76, 30.0000,E, grid, , , ,N
Point07,xy, 95, 2987,in, deg, 41, 40.0000,N, 76, 0.0000,E, grid, , , ,N
Point08,xy, 1723, 2986,in, deg, 41, 40.0000,N, 76, 15.0000,E, grid, , , ,N
Point09,xy, 3350, 2983,in, deg, 41, 40.0000,N, 76, 30.0000,E, grid, , , ,N
Point10,xy, , ,in, deg, , ,N, , ,W, grid, , , ,N
Point11,xy, , ,in, deg, , ,N, , ,W, grid, , , ,N
Point12,xy, , ,in, deg, , ,N, , ,W, grid, , , ,N
Point13,xy, , ,in, deg, , ,N, , ,W, grid, , , ,N
Point14,xy, , ,in, deg, , ,N, , ,W, grid, , , ,N
Point15,xy, , ,in, deg, , ,N, , ,W, grid, , , ,N
Point16,xy, , ,in, deg, , ,N, , ,W, grid, , , ,N
Point17,xy, , ,in, deg, , ,N, , ,W, grid, , , ,N
Point18,xy, , ,in, deg, , ,N, , ,W, grid, , , ,N
Point19,xy, , ,in, deg, , ,N, , ,W, grid, , , ,N
Point20,xy, , ,in, deg, , ,N, , ,W, grid, , , ,N
Point21,xy, , ,in, deg, , ,N, , ,W, grid, , , ,N
Point22,xy, , ,in, deg, , ,N, , ,W, grid, , , ,N
Point23,xy, , ,in, deg, , ,N, , ,W, grid, , , ,N
Point24,xy, , ,in, deg, , ,N, , ,W, grid, , , ,N
Point25,xy, , ,in, deg, , ,N, , ,W, grid, , , ,N
Point26,xy, , ,in, deg, , ,N, , ,W, grid, , , ,N
Point27,xy, , ,in, deg, , ,N, , ,W, grid, , , ,N
Point28,xy, , ,in, deg, , ,N, , ,W, grid, , , ,N
Point29,xy, , ,in, deg, , ,N, , ,W, grid, , , ,N
Point30,xy, , ,in, deg, , ,N, , ,W, grid, , , ,N
Projection Setup, 0.000000000, 75.000000000, 1.000000000, 500000.00, 0.00,,,,,
Map Feature = MF ; Map Comment = MC These follow if they exist
Track File = TF These follow if they exist
Moving Map Parameters = MM? These follow if they exist
MM0,Yes
MMPNUM,4
MMPXY,1,97,88
MMPXY,2,3334,89
MMPXY,3,3350,2983
MMPXY,4,95,2987
MMPLL,1, 76.000000, 42.000000
MMPLL,2, 76.500000, 42.000000
MMPLL,3, 76.500000, 41.666667
MMPLL,4, 76.000000, 41.666667
MM1B,12.036435
MOP,Map Open Position,0,0
IWH,Map Image Width/Height,3442,3074
