OziExplorer Map Data File Version 2.2
100k--k43-077.gif
100k--k43-077.gif
1 ,Map Code,
Pulkovo 1942 (2),WGS 84, 0.0000, 0.0000,WGS 84
Reserved 1
Reserved 2
Magnetic Variation,,,E
Map Projection,Transverse Mercator,PolyCal,No,AutoCalOnly,No,BSBUseWPX,No
Point01,xy, 125, 93,in, deg, 42, 0.0000,N, 74, 0.0000,E, grid, , , ,N
Point02,xy, 1744, 107,in, deg, 42, 0.0000,N, 74, 15.0000,E, grid, , , ,N
Point03,xy, 3364, 122,in, deg, 42, 0.0000,N, 74, 30.0000,E, grid, , , ,N
Point04,xy, 111, 1541,in, deg, 41, 50.0000,N, 74, 0.0000,E, grid, , , ,N
Point05,xy, 1675, 1536,ex, deg, 41, 50.0000,N, 74, 15.0000,E, grid, , , ,N
Point06,xy, 3355, 1571,in, deg, 41, 50.0000,N, 74, 30.0000,E, grid, , , ,N
Point07,xy, 93, 2989,in, deg, 41, 40.0000,N, 74, 0.0000,E, grid, , , ,N
Point08,xy, 1724, 3008,in, deg, 41, 40.0000,N, 74, 15.0000,E, grid, , , ,N
Point09,xy, 3352, 3021,in, deg, 41, 40.0000,N, 74, 30.0000,E, grid, , , ,N
Point10,xy, , ,in, deg, , ,N, , ,W, grid, , , ,N
Point11,xy, , ,in, deg, , ,N, , ,W, grid, , , ,N
Point12,xy, , ,in, deg, , ,N, , ,W, grid, , , ,N
Point13,xy, , ,in, deg, , ,N, , ,W, grid, , , ,N
Point14,xy, , ,in, deg, , ,N, , ,W, grid, , , ,N
Point15,xy, , ,in, deg, , ,N, , ,W, grid, , , ,N
Point16,xy, , ,in, deg, , ,N, , ,W, grid, , , ,N
Point17,xy, , ,in, deg, , ,N, , ,W, grid, , , ,N
Point18,xy, , ,in, deg, , ,N, , ,W, grid, , , ,N
Point19,xy, , ,in, deg, , ,N, , ,W, grid, , , ,N
Point20,xy, , ,in, deg, , ,N, , ,W, grid, , , ,N
Point21,xy, , ,in, deg, , ,N, , ,W, grid, , , ,N
Point22,xy, , ,in, deg, , ,N, , ,W, grid, , , ,N
Point23,xy, , ,in, deg, , ,N, , ,W, grid, , , ,N
Point24,xy, , ,in, deg, , ,N, , ,W, grid, , , ,N
Point25,xy, , ,in, deg, , ,N, , ,W, grid, , , ,N
Point26,xy, , ,in, deg, , ,N, , ,W, grid, , , ,N
Point27,xy, , ,in, deg, , ,N, , ,W, grid, , , ,N
Point28,xy, , ,in, deg, , ,N, , ,W, grid, , , ,N
Point29,xy, , ,in, deg, , ,N, , ,W, grid, , , ,N
Point30,xy, , ,in, deg, , ,N, , ,W, grid, , , ,N
Projection Setup, 0.000000000, 75.000000000, 1.000000000, 500000.00, 0.00,,,,,
Map Feature = MF ; Map Comment = MC These follow if they exist
Track File = TF These follow if they exist
Moving Map Parameters = MM? These follow if they exist
MM0,Yes
MMPNUM,4
MMPXY,1,125,93
MMPXY,2,3364,122
MMPXY,3,3352,3021
MMPXY,4,93,2989
MMPLL,1, 74.000000, 42.000000
MMPLL,2, 74.500000, 42.000000
MMPLL,3, 74.500000, 41.666667
MMPLL,4, 74.000000, 41.666667
MM1B,11.931635
MOP,Map Open Position,0,0
IWH,Map Image Width/Height,3456,3101
