OziExplorer Map Data File Version 2.2
100k--k43-071.gif
100k--k43-071.gif
1 ,Map Code,
Pulkovo 1942 (2),WGS 84, 0.0000, 0.0000,WGS 84
Reserved 1
Reserved 2
Magnetic Variation,,,E
Map Projection,Transverse Mercator,PolyCal,No,AutoCalOnly,No,BSBUseWPX,No
Point01,xy, 100, 86,in, deg, 42, 20.0000,N, 77, 0.0000,E, grid, , , ,N
Point02,xy, 1710, 91,in, deg, 42, 20.0000,N, 77, 15.0000,E, grid, , , ,N
Point03,xy, 3322, 96,in, deg, 42, 20.0000,N, 77, 30.0000,E, grid, , , ,N
Point04,xy, 96, 1538,in, deg, 42, 10.0000,N, 77, 0.0000,E, grid, , , ,N
Point05,xy, 1709, 1541,in, deg, 42, 10.0000,N, 77, 15.0000,E, grid, , , ,N
Point06,xy, 3322, 1545,in, deg, 42, 10.0000,N, 77, 30.0000,E, grid, , , ,N
Point07,xy, 86, 2986,in, deg, 42, 0.0000,N, 77, 0.0000,E, grid, , , ,N
Point08,xy, 1707, 2994,in, deg, 42, 0.0000,N, 77, 15.0000,E, grid, , , ,N
Point09,xy, 3325, 2996,in, deg, 42, 0.0000,N, 77, 30.0000,E, grid, , , ,N
Point10,xy, , ,in, deg, , ,N, , ,W, grid, , , ,N
Point11,xy, , ,in, deg, , ,N, , ,W, grid, , , ,N
Point12,xy, , ,in, deg, , ,N, , ,W, grid, , , ,N
Point13,xy, , ,in, deg, , ,N, , ,W, grid, , , ,N
Point14,xy, , ,in, deg, , ,N, , ,W, grid, , , ,N
Point15,xy, , ,in, deg, , ,N, , ,W, grid, , , ,N
Point16,xy, , ,in, deg, , ,N, , ,W, grid, , , ,N
Point17,xy, , ,in, deg, , ,N, , ,W, grid, , , ,N
Point18,xy, , ,in, deg, , ,N, , ,W, grid, , , ,N
Point19,xy, , ,in, deg, , ,N, , ,W, grid, , , ,N
Point20,xy, , ,in, deg, , ,N, , ,W, grid, , , ,N
Point21,xy, , ,in, deg, , ,N, , ,W, grid, , , ,N
Point22,xy, , ,in, deg, , ,N, , ,W, grid, , , ,N
Point23,xy, , ,in, deg, , ,N, , ,W, grid, , , ,N
Point24,xy, , ,in, deg, , ,N, , ,W, grid, , , ,N
Point25,xy, , ,in, deg, , ,N, , ,W, grid, , , ,N
Point26,xy, , ,in, deg, , ,N, , ,W, grid, , , ,N
Point27,xy, , ,in, deg, , ,N, , ,W, grid, , , ,N
Point28,xy, , ,in, deg, , ,N, , ,W, grid, , , ,N
Point29,xy, , ,in, deg, , ,N, , ,W, grid, , , ,N
Point30,xy, , ,in, deg, , ,N, , ,W, grid, , , ,N
Projection Setup, 0.000000000, 75.000000000, 1.000000000, 500000.00, 0.00,,,,,
Map Feature = MF ; Map Comment = MC These follow if they exist
Track File = TF These follow if they exist
Moving Map Parameters = MM? These follow if they exist
MM0,Yes
MMPNUM,4
MMPXY,1,100,86
MMPXY,2,3322,96
MMPXY,3,3325,2996
MMPXY,4,86,2986
MMPLL,1, 77.000000, 42.333333
MMPLL,2, 77.500000, 42.333333
MMPLL,3, 77.500000, 42.000000
MMPLL,4, 77.000000, 42.000000
MM1B,12.009088
MOP,Map Open Position,0,0
IWH,Map Image Width/Height,3416,3081
