OziExplorer Map Data File Version 2.2
100k--k43-056.gif
100k--k43-056.gif
1 ,Map Code,
Pulkovo 1942 (2),WGS 84, 0.0000, 0.0000,WGS 84
Reserved 1
Reserved 2
Magnetic Variation,,,E
Map Projection,Transverse Mercator,PolyCal,No,AutoCalOnly,No,BSBUseWPX,No
Point01,xy, 103, 93,in, deg, 42, 40.0000,N, 75, 30.0000,E, grid, , , ,N
Point02,xy, 1704, 96,in, deg, 42, 40.0000,N, 75, 45.0000,E, grid, , , ,N
Point03,xy, 3308, 94,in, deg, 42, 40.0000,N, 76, 0.0000,E, grid, , , ,N
Point04,xy, 100, 1542,in, deg, 42, 30.0000,N, 75, 30.0000,E, grid, , , ,N
Point05,xy, 1704, 1547,in, deg, 42, 30.0000,N, 75, 45.0000,E, grid, , , ,N
Point06,xy, 3312, 1546,in, deg, 42, 30.0000,N, 76, 0.0000,E, grid, , , ,N
Point07,xy, 96, 2991,in, deg, 42, 20.0000,N, 75, 30.0000,E, grid, , , ,N
Point08,xy, 1708, 2999,in, deg, 42, 20.0000,N, 75, 45.0000,E, grid, , , ,N
Point09,xy, 3319, 2995,in, deg, 42, 20.0000,N, 76, 0.0000,E, grid, , , ,N
Point10,xy, , ,in, deg, , ,N, , ,W, grid, , , ,N
Point11,xy, , ,in, deg, , ,N, , ,W, grid, , , ,N
Point12,xy, , ,in, deg, , ,N, , ,W, grid, , , ,N
Point13,xy, , ,in, deg, , ,N, , ,W, grid, , , ,N
Point14,xy, , ,in, deg, , ,N, , ,W, grid, , , ,N
Point15,xy, , ,in, deg, , ,N, , ,W, grid, , , ,N
Point16,xy, , ,in, deg, , ,N, , ,W, grid, , , ,N
Point17,xy, , ,in, deg, , ,N, , ,W, grid, , , ,N
Point18,xy, , ,in, deg, , ,N, , ,W, grid, , , ,N
Point19,xy, , ,in, deg, , ,N, , ,W, grid, , , ,N
Point20,xy, , ,in, deg, , ,N, , ,W, grid, , , ,N
Point21,xy, , ,in, deg, , ,N, , ,W, grid, , , ,N
Point22,xy, , ,in, deg, , ,N, , ,W, grid, , , ,N
Point23,xy, , ,in, deg, , ,N, , ,W, grid, , , ,N
Point24,xy, , ,in, deg, , ,N, , ,W, grid, , , ,N
Point25,xy, , ,in, deg, , ,N, , ,W, grid, , , ,N
Point26,xy, , ,in, deg, , ,N, , ,W, grid, , , ,N
Point27,xy, , ,in, deg, , ,N, , ,W, grid, , , ,N
Point28,xy, , ,in, deg, , ,N, , ,W, grid, , , ,N
Point29,xy, , ,in, deg, , ,N, , ,W, grid, , , ,N
Point30,xy, , ,in, deg, , ,N, , ,W, grid, , , ,N
Projection Setup, 0.000000000, 75.000000000, 1.000000000, 500000.00, 0.00,,,,,
Map Feature = MF ; Map Comment = MC These follow if they exist
Track File = TF These follow if they exist
Moving Map Parameters = MM? These follow if they exist
MM0,Yes
MMPNUM,4
MMPXY,1,103,93
MMPXY,2,3308,94
MMPXY,3,3319,2995
MMPXY,4,96,2991
MMPLL,1, 75.500000, 42.666667
MMPLL,2, 76.000000, 42.666667
MMPLL,3, 76.000000, 42.333333
MMPLL,4, 75.500000, 42.333333
MM1B,11.981865
MOP,Map Open Position,0,0
IWH,Map Image Width/Height,3409,3088
