OziExplorer Map Data File Version 2.2
100k--k43-053.gif
100k--k43-053.gif
1 ,Map Code,
Pulkovo 1942 (2),WGS 84, 0.0000, 0.0000,WGS 84
Reserved 1
Reserved 2
Magnetic Variation,,,E
Map Projection,Transverse Mercator,PolyCal,No,AutoCalOnly,No,BSBUseWPX,No
Point01,xy, 106, 95,in, deg, 42, 40.0000,N, 74, 0.0000,E, grid, , , ,N
Point02,xy, 1708, 99,in, deg, 42, 40.0000,N, 74, 15.0000,E, grid, , , ,N
Point03,xy, 3309, 104,in, deg, 42, 40.0000,N, 74, 30.0000,E, grid, , , ,N
Point04,xy, 102, 1544,in, deg, 42, 30.0000,N, 74, 0.0000,E, grid, , , ,N
Point05,xy, 1705, 1551,in, deg, 42, 30.0000,N, 74, 15.0000,E, grid, , , ,N
Point06,xy, 3312, 1555,in, deg, 42, 30.0000,N, 74, 30.0000,E, grid, , , ,N
Point07,xy, 93, 2995,in, deg, 42, 20.0000,N, 74, 0.0000,E, grid, , , ,N
Point08,xy, 1704, 3003,in, deg, 42, 20.0000,N, 74, 15.0000,E, grid, , , ,N
Point09,xy, 3318, 3002,in, deg, 42, 20.0000,N, 74, 30.0000,E, grid, , , ,N
Point10,xy, , ,in, deg, , ,N, , ,W, grid, , , ,N
Point11,xy, , ,in, deg, , ,N, , ,W, grid, , , ,N
Point12,xy, , ,in, deg, , ,N, , ,W, grid, , , ,N
Point13,xy, , ,in, deg, , ,N, , ,W, grid, , , ,N
Point14,xy, , ,in, deg, , ,N, , ,W, grid, , , ,N
Point15,xy, , ,in, deg, , ,N, , ,W, grid, , , ,N
Point16,xy, , ,in, deg, , ,N, , ,W, grid, , , ,N
Point17,xy, , ,in, deg, , ,N, , ,W, grid, , , ,N
Point18,xy, , ,in, deg, , ,N, , ,W, grid, , , ,N
Point19,xy, , ,in, deg, , ,N, , ,W, grid, , , ,N
Point20,xy, , ,in, deg, , ,N, , ,W, grid, , , ,N
Point21,xy, , ,in, deg, , ,N, , ,W, grid, , , ,N
Point22,xy, , ,in, deg, , ,N, , ,W, grid, , , ,N
Point23,xy, , ,in, deg, , ,N, , ,W, grid, , , ,N
Point24,xy, , ,in, deg, , ,N, , ,W, grid, , , ,N
Point25,xy, , ,in, deg, , ,N, , ,W, grid, , , ,N
Point26,xy, , ,in, deg, , ,N, , ,W, grid, , , ,N
Point27,xy, , ,in, deg, , ,N, , ,W, grid, , , ,N
Point28,xy, , ,in, deg, , ,N, , ,W, grid, , , ,N
Point29,xy, , ,in, deg, , ,N, , ,W, grid, , , ,N
Point30,xy, , ,in, deg, , ,N, , ,W, grid, , , ,N
Projection Setup, 0.000000000, 75.000000000, 1.000000000, 500000.00, 0.00,,,,,
Map Feature = MF ; Map Comment = MC These follow if they exist
Track File = TF These follow if they exist
Moving Map Parameters = MM? These follow if they exist
MM0,Yes
MMPNUM,4
MMPXY,1,106,95
MMPXY,2,3309,104
MMPXY,3,3318,3002
MMPXY,4,93,2995
MMPLL,1, 74.000000, 42.666667
MMPLL,2, 74.500000, 42.666667
MMPLL,3, 74.500000, 42.333333
MMPLL,4, 74.000000, 42.333333
MM1B,11.958630
MOP,Map Open Position,0,0
IWH,Map Image Width/Height,3408,3094
