OziExplorer Map Data File Version 2.2
100k--k43-036.gif
100k--k43-036.gif
1 ,Map Code,
Pulkovo 1942 (2),WGS 84, 0.0000, 0.0000,WGS 84
Reserved 1
Reserved 2
Magnetic Variation,,,E
Map Projection,Transverse Mercator,PolyCal,No,AutoCalOnly,No,BSBUseWPX,No
Point01,xy, 109, 92,in, deg, 43, 20.0000,N, 77, 30.0000,E, grid, , , ,N
Point02,xy, 1687, 97,in, deg, 43, 20.0000,N, 77, 45.0000,E, grid, , , ,N
Point03,xy, 3262, 90,in, deg, 43, 20.0000,N, 78, 0.0000,E, grid, , , ,N
Point04,xy, 105, 1534,in, deg, 43, 10.0000,N, 77, 30.0000,E, grid, , , ,N
Point05,xy, 1684, 1540,in, deg, 43, 10.0000,N, 77, 45.0000,E, grid, , , ,N
Point06,xy, 3263, 1534,in, deg, 43, 10.0000,N, 78, 0.0000,E, grid, , , ,N
Point07,xy, 97, 2975,in, deg, 43, 0.0000,N, 77, 30.0000,E, grid, , , ,N
Point08,xy, 1684, 2980,in, deg, 43, 0.0000,N, 77, 45.0000,E, grid, , , ,N
Point09,xy, 3268, 2977,in, deg, 43, 0.0000,N, 78, 0.0000,E, grid, , , ,N
Point10,xy, , ,in, deg, , ,N, , ,W, grid, , , ,N
Point11,xy, , ,in, deg, , ,N, , ,W, grid, , , ,N
Point12,xy, , ,in, deg, , ,N, , ,W, grid, , , ,N
Point13,xy, , ,in, deg, , ,N, , ,W, grid, , , ,N
Point14,xy, , ,in, deg, , ,N, , ,W, grid, , , ,N
Point15,xy, , ,in, deg, , ,N, , ,W, grid, , , ,N
Point16,xy, , ,in, deg, , ,N, , ,W, grid, , , ,N
Point17,xy, , ,in, deg, , ,N, , ,W, grid, , , ,N
Point18,xy, , ,in, deg, , ,N, , ,W, grid, , , ,N
Point19,xy, , ,in, deg, , ,N, , ,W, grid, , , ,N
Point20,xy, , ,in, deg, , ,N, , ,W, grid, , , ,N
Point21,xy, , ,in, deg, , ,N, , ,W, grid, , , ,N
Point22,xy, , ,in, deg, , ,N, , ,W, grid, , , ,N
Point23,xy, , ,in, deg, , ,N, , ,W, grid, , , ,N
Point24,xy, , ,in, deg, , ,N, , ,W, grid, , , ,N
Point25,xy, , ,in, deg, , ,N, , ,W, grid, , , ,N
Point26,xy, , ,in, deg, , ,N, , ,W, grid, , , ,N
Point27,xy, , ,in, deg, , ,N, , ,W, grid, , , ,N
Point28,xy, , ,in, deg, , ,N, , ,W, grid, , , ,N
Point29,xy, , ,in, deg, , ,N, , ,W, grid, , , ,N
Point30,xy, , ,in, deg, , ,N, , ,W, grid, , , ,N
Projection Setup, 0.000000000, 75.000000000, 1.000000000, 500000.00, 0.00,,,,,
Map Feature = MF ; Map Comment = MC These follow if they exist
Track File = TF These follow if they exist
Moving Map Parameters = MM? These follow if they exist
MM0,Yes
MMPNUM,4
MMPXY,1,109,92
MMPXY,2,3262,90
MMPXY,3,3268,2977
MMPXY,4,97,2975
MMPLL,1, 77.500000, 43.333333
MMPLL,2, 78.000000, 43.333333
MMPLL,3, 78.000000, 43.000000
MMPLL,4, 77.500000, 43.000000
MM1B,12.071778
MOP,Map Open Position,0,0
IWH,Map Image Width/Height,3361,3065
