OziExplorer Map Data File Version 2.2
100k--k43-025--(1985).gif
100k--k43-025--(1985).gif
1 ,Map Code,
Pulkovo 1942 (2),WGS 84, 0.0000, 0.0000,WGS 84
Reserved 1
Reserved 2
Magnetic Variation,,,E
Map Projection,Transverse Mercator,PolyCal,No,AutoCalOnly,No,BSBUseWPX,No
Point01,xy, 107, 95,in, deg, 43, 20.0000,N, 72, 0.0000,E, grid, , , ,N
Point02,xy, 1698, 104,in, deg, 43, 20.0000,N, 72, 15.0000,E, grid, , , ,N
Point03,xy, 3293, 102,in, deg, 43, 20.0000,N, 72, 30.0000,E, grid, , , ,N
Point04,xy, 96, 1545,in, deg, 43, 10.0000,N, 72, 0.0000,E, grid, , , ,N
Point05,xy, 1695, 1553,in, deg, 43, 10.0000,N, 72, 15.0000,E, grid, , , ,N
Point06,xy, 3296, 1554,in, deg, 43, 10.0000,N, 72, 30.0000,E, grid, , , ,N
Point07,xy, 90, 3002,in, deg, 43, 0.0000,N, 72, 0.0000,E, grid, , , ,N
Point08,xy, 1688, 3007,in, deg, 43, 0.0000,N, 72, 15.0000,E, grid, , , ,N
Point09,xy, 3296, 3008,in, deg, 43, 0.0000,N, 72, 30.0000,E, grid, , , ,N
Point10,xy, , ,in, deg, , ,N, , ,W, grid, , , ,N
Point11,xy, , ,in, deg, , ,N, , ,W, grid, , , ,N
Point12,xy, , ,in, deg, , ,N, , ,W, grid, , , ,N
Point13,xy, , ,in, deg, , ,N, , ,W, grid, , , ,N
Point14,xy, , ,in, deg, , ,N, , ,W, grid, , , ,N
Point15,xy, , ,in, deg, , ,N, , ,W, grid, , , ,N
Point16,xy, , ,in, deg, , ,N, , ,W, grid, , , ,N
Point17,xy, , ,in, deg, , ,N, , ,W, grid, , , ,N
Point18,xy, , ,in, deg, , ,N, , ,W, grid, , , ,N
Point19,xy, , ,in, deg, , ,N, , ,W, grid, , , ,N
Point20,xy, , ,in, deg, , ,N, , ,W, grid, , , ,N
Point21,xy, , ,in, deg, , ,N, , ,W, grid, , , ,N
Point22,xy, , ,in, deg, , ,N, , ,W, grid, , , ,N
Point23,xy, , ,in, deg, , ,N, , ,W, grid, , , ,N
Point24,xy, , ,in, deg, , ,N, , ,W, grid, , , ,N
Point25,xy, , ,in, deg, , ,N, , ,W, grid, , , ,N
Point26,xy, , ,in, deg, , ,N, , ,W, grid, , , ,N
Point27,xy, , ,in, deg, , ,N, , ,W, grid, , , ,N
Point28,xy, , ,in, deg, , ,N, , ,W, grid, , , ,N
Point29,xy, , ,in, deg, , ,N, , ,W, grid, , , ,N
Point30,xy, , ,in, deg, , ,N, , ,W, grid, , , ,N
Projection Setup, 0.000000000, 75.000000000, 1.000000000, 500000.00, 0.00,,,,,
Map Feature = MF ; Map Comment = MC These follow if they exist
Track File = TF These follow if they exist
Moving Map Parameters = MM? These follow if they exist
MM0,Yes
MMPNUM,4
MMPXY,1,108,99
MMPXY,2,3282,99
MMPXY,3,3282,2995
MMPXY,4,108,2995
MMPLL,1, 72.000454, 43.332869
MMPLL,2, 72.498156, 43.333744
MMPLL,3, 72.498058, 43.001447
MMPLL,4, 72.003048, 43.000651
MM1B,12.713803
MOP,Map Open Position,0,0
IWH,Map Image Width/Height,3390,3094
