OziExplorer Map Data File Version 2.2
100k--k43-017--(1983).gif
100k--k43-017--(1983).gif
1 ,Map Code,
Pulkovo 1942 (2),WGS 84, 0.0000, 0.0000,WGS 84
Reserved 1
Reserved 2
Magnetic Variation,,,E
Map Projection,Transverse Mercator,PolyCal,No,AutoCalOnly,No,BSBUseWPX,No
Point01,xy, 106, 88,in, deg, 43, 40.0000,N, 74, 0.0000,E, grid, , , ,N
Point02,xy, 1690, 94,in, deg, 43, 40.0000,N, 74, 15.0000,E, grid, , , ,N
Point03,xy, 3274, 92,in, deg, 43, 40.0000,N, 74, 30.0000,E, grid, , , ,N
Point04,xy, 94, 1540,in, deg, 43, 30.0000,N, 74, 0.0000,E, grid, , , ,N
Point05,xy, 1686, 1546,in, deg, 43, 30.0000,N, 74, 15.0000,E, grid, , , ,N
Point06,xy, 3274, 1543,in, deg, 43, 30.0000,N, 74, 30.0000,E, grid, , , ,N
Point07,xy, 88, 2994,in, deg, 43, 20.0000,N, 74, 0.0000,E, grid, , , ,N
Point08,xy, 1682, 3002,in, deg, 43, 20.0000,N, 74, 15.0000,E, grid, , , ,N
Point09,xy, 3276, 2999,in, deg, 43, 20.0000,N, 74, 30.0000,E, grid, , , ,N
Point10,xy, , ,in, deg, , ,N, , ,W, grid, , , ,N
Point11,xy, , ,in, deg, , ,N, , ,W, grid, , , ,N
Point12,xy, , ,in, deg, , ,N, , ,W, grid, , , ,N
Point13,xy, , ,in, deg, , ,N, , ,W, grid, , , ,N
Point14,xy, , ,in, deg, , ,N, , ,W, grid, , , ,N
Point15,xy, , ,in, deg, , ,N, , ,W, grid, , , ,N
Point16,xy, , ,in, deg, , ,N, , ,W, grid, , , ,N
Point17,xy, , ,in, deg, , ,N, , ,W, grid, , , ,N
Point18,xy, , ,in, deg, , ,N, , ,W, grid, , , ,N
Point19,xy, , ,in, deg, , ,N, , ,W, grid, , , ,N
Point20,xy, , ,in, deg, , ,N, , ,W, grid, , , ,N
Point21,xy, , ,in, deg, , ,N, , ,W, grid, , , ,N
Point22,xy, , ,in, deg, , ,N, , ,W, grid, , , ,N
Point23,xy, , ,in, deg, , ,N, , ,W, grid, , , ,N
Point24,xy, , ,in, deg, , ,N, , ,W, grid, , , ,N
Point25,xy, , ,in, deg, , ,N, , ,W, grid, , , ,N
Point26,xy, , ,in, deg, , ,N, , ,W, grid, , , ,N
Point27,xy, , ,in, deg, , ,N, , ,W, grid, , , ,N
Point28,xy, , ,in, deg, , ,N, , ,W, grid, , , ,N
Point29,xy, , ,in, deg, , ,N, , ,W, grid, , , ,N
Point30,xy, , ,in, deg, , ,N, , ,W, grid, , , ,N
Projection Setup, 0.000000000, 75.000000000, 1.000000000, 500000.00, 0.00,,,,,
Map Feature = MF ; Map Comment = MC These follow if they exist
Track File = TF These follow if they exist
Moving Map Parameters = MM? These follow if they exist
MM0,Yes
MMPNUM,4
MMPXY,1,108,99
MMPXY,2,3255,99
MMPXY,3,3255,2989
MMPXY,4,108,2989
MMPLL,1, 74.000547, 43.665393
MMPLL,2, 74.496921, 43.665863
MMPLL,3, 74.496822, 43.334471
MMPLL,4, 74.003155, 43.334026
MM1B,12.717033
MOP,Map Open Position,0,0
IWH,Map Image Width/Height,3363,3088
