OziExplorer Map Data File Version 2.2
100k--k43-005.gif
100k--k43-005.gif
1 ,Map Code,
Pulkovo 1942 (2),WGS 84, 0.0000, 0.0000,WGS 84
Reserved 1
Reserved 2
Magnetic Variation,,,E
Map Projection,Transverse Mercator,PolyCal,No,AutoCalOnly,No,BSBUseWPX,No
Point01,xy, 97, 95,in, deg, 44, 0.0000,N, 74, 0.0000,E, grid, , , ,N
Point02,xy, 1676, 98,in, deg, 44, 0.0000,N, 74, 15.0000,E, grid, , , ,N
Point03,xy, 3252, 97,in, deg, 44, 0.0000,N, 74, 30.0000,E, grid, , , ,N
Point04,xy, 91, 1554,in, deg, 43, 50.0000,N, 74, 0.0000,E, grid, , , ,N
Point05,xy, 1672, 1558,in, deg, 43, 50.0000,N, 74, 15.0000,E, grid, , , ,N
Point06,xy, 3254, 1556,in, deg, 43, 50.0000,N, 74, 30.0000,E, grid, , , ,N
Point07,xy, 83, 3012,in, deg, 43, 40.0000,N, 74, 0.0000,E, grid, , , ,N
Point08,xy, 1668, 3014,in, deg, 43, 40.0000,N, 74, 15.0000,E, grid, , , ,N
Point09,xy, 3258, 3013,in, deg, 43, 40.0000,N, 74, 30.0000,E, grid, , , ,N
Point10,xy, , ,in, deg, , ,N, , ,W, grid, , , ,N
Point11,xy, , ,in, deg, , ,N, , ,W, grid, , , ,N
Point12,xy, , ,in, deg, , ,N, , ,W, grid, , , ,N
Point13,xy, , ,in, deg, , ,N, , ,W, grid, , , ,N
Point14,xy, , ,in, deg, , ,N, , ,W, grid, , , ,N
Point15,xy, , ,in, deg, , ,N, , ,W, grid, , , ,N
Point16,xy, , ,in, deg, , ,N, , ,W, grid, , , ,N
Point17,xy, , ,in, deg, , ,N, , ,W, grid, , , ,N
Point18,xy, , ,in, deg, , ,N, , ,W, grid, , , ,N
Point19,xy, , ,in, deg, , ,N, , ,W, grid, , , ,N
Point20,xy, , ,in, deg, , ,N, , ,W, grid, , , ,N
Point21,xy, , ,in, deg, , ,N, , ,W, grid, , , ,N
Point22,xy, , ,in, deg, , ,N, , ,W, grid, , , ,N
Point23,xy, , ,in, deg, , ,N, , ,W, grid, , , ,N
Point24,xy, , ,in, deg, , ,N, , ,W, grid, , , ,N
Point25,xy, , ,in, deg, , ,N, , ,W, grid, , , ,N
Point26,xy, , ,in, deg, , ,N, , ,W, grid, , , ,N
Point27,xy, , ,in, deg, , ,N, , ,W, grid, , , ,N
Point28,xy, , ,in, deg, , ,N, , ,W, grid, , , ,N
Point29,xy, , ,in, deg, , ,N, , ,W, grid, , , ,N
Point30,xy, , ,in, deg, , ,N, , ,W, grid, , , ,N
Projection Setup, 0.000000000, 75.000000000, 1.000000000, 500000.00, 0.00,,,,,
Map Feature = MF ; Map Comment = MC These follow if they exist
Track File = TF These follow if they exist
Moving Map Parameters = MM? These follow if they exist
MM0,Yes
MMPNUM,4
MMPXY,1,107,99
MMPXY,2,3246,99
MMPXY,3,3246,3000
MMPXY,4,107,3000
MMPLL,1, 74.001549, 43.999590
MMPLL,2, 74.498928, 43.999788
MMPLL,3, 74.498390, 43.668199
MMPLL,4, 74.003757, 43.668024
MM1B,12.704077
MOP,Map Open Position,0,0
IWH,Map Image Width/Height,3353,3099
