OziExplorer Map Data File Version 2.2
100k--k43-002.gif
100k--k43-002.gif
1 ,Map Code,
Pulkovo 1942 (2),WGS 84, 0.0000, 0.0000,WGS 84
Reserved 1
Reserved 2
Magnetic Variation,,,E
Map Projection,Transverse Mercator,PolyCal,No,AutoCalOnly,No,BSBUseWPX,No
Point01,xy, 103, 100,in, deg, 44, 0.0000,N, 72, 30.0000,E, grid, , , ,N
Point02,xy, 1677, 100,in, deg, 44, 0.0000,N, 72, 45.0000,E, grid, , , ,N
Point03,xy, 3254, 92,in, deg, 44, 0.0000,N, 73, 0.0000,E, grid, , , ,N
Point04,xy, 98, 1556,in, deg, 43, 50.0000,N, 72, 30.0000,E, grid, , , ,N
Point05,xy, 1678, 1556,in, deg, 43, 50.0000,N, 72, 45.0000,E, grid, , , ,N
Point06,xy, 3260, 1550,in, deg, 43, 50.0000,N, 73, 0.0000,E, grid, , , ,N
Point07,xy, 96, 3012,in, deg, 43, 40.0000,N, 72, 30.0000,E, grid, , , ,N
Point08,xy, 1680, 3010,in, deg, 43, 40.0000,N, 72, 45.0000,E, grid, , , ,N
Point09,xy, 3264, 3006,in, deg, 43, 40.0000,N, 73, 0.0000,E, grid, , , ,N
Point10,xy, , ,in, deg, , ,N, , ,W, grid, , , ,N
Point11,xy, , ,in, deg, , ,N, , ,W, grid, , , ,N
Point12,xy, , ,in, deg, , ,N, , ,W, grid, , , ,N
Point13,xy, , ,in, deg, , ,N, , ,W, grid, , , ,N
Point14,xy, , ,in, deg, , ,N, , ,W, grid, , , ,N
Point15,xy, , ,in, deg, , ,N, , ,W, grid, , , ,N
Point16,xy, , ,in, deg, , ,N, , ,W, grid, , , ,N
Point17,xy, , ,in, deg, , ,N, , ,W, grid, , , ,N
Point18,xy, , ,in, deg, , ,N, , ,W, grid, , , ,N
Point19,xy, , ,in, deg, , ,N, , ,W, grid, , , ,N
Point20,xy, , ,in, deg, , ,N, , ,W, grid, , , ,N
Point21,xy, , ,in, deg, , ,N, , ,W, grid, , , ,N
Point22,xy, , ,in, deg, , ,N, , ,W, grid, , , ,N
Point23,xy, , ,in, deg, , ,N, , ,W, grid, , , ,N
Point24,xy, , ,in, deg, , ,N, , ,W, grid, , , ,N
Point25,xy, , ,in, deg, , ,N, , ,W, grid, , , ,N
Point26,xy, , ,in, deg, , ,N, , ,W, grid, , , ,N
Point27,xy, , ,in, deg, , ,N, , ,W, grid, , , ,N
Point28,xy, , ,in, deg, , ,N, , ,W, grid, , , ,N
Point29,xy, , ,in, deg, , ,N, , ,W, grid, , , ,N
Point30,xy, , ,in, deg, , ,N, , ,W, grid, , , ,N
Projection Setup, 0.000000000, 75.000000000, 1.000000000, 500000.00, 0.00,,,,,
Map Feature = MF ; Map Comment = MC These follow if they exist
Track File = TF These follow if they exist
Moving Map Parameters = MM? These follow if they exist
MM0,Yes
MMPNUM,4
MMPXY,1,108,99
MMPXY,2,3262,99
MMPXY,3,3262,3007
MMPXY,4,108,3007
MMPLL,1, 72.500932, 44.000109
MMPLL,2, 73.001322, 43.999372
MMPLL,3, 72.999613, 43.666471
MMPLL,4, 72.501999, 43.667266
MM1B,12.719739
MOP,Map Open Position,0,0
IWH,Map Image Width/Height,3370,3106
