OziExplorer Map Data File Version 2.2
200k--j41-27.gif
200k--j41-27.gif
1 ,Map Code,
Pulkovo 1942 (2),WGS 84, 0.0000, 0.0000,WGS 84
Reserved 1
Reserved 2
Magnetic Variation,,,E
Map Projection,Transverse Mercator,PolyCal,No,AutoCalOnly,No,BSBUseWPX,No
Point01,xy, 104, 84,in, deg, 37, 20.0000,N, 62, 0.0000,E, grid, , , ,N
Point02,xy, 1824, 88,in, deg, 37, 20.0000,N, 62, 30.0000,E, grid, , , ,N
Point03,xy, 3548, 86,in, deg, 37, 20.0000,N, 63, 0.0000,E, grid, , , ,N
Point04,xy, 95, 1523,in, deg, 37, 0.0000,N, 62, 0.0000,E, grid, , , ,N
Point05,xy, 1823, 1530,in, deg, 37, 0.0000,N, 62, 30.0000,E, grid, , , ,N
Point06,xy, 3553, 1527,in, deg, 37, 0.0000,N, 63, 0.0000,E, grid, , , ,N
Point07,xy, 86, 2963,in, deg, 36, 40.0000,N, 62, 0.0000,E, grid, , , ,N
Point08,xy, 1823, 2968,in, deg, 36, 40.0000,N, 62, 30.0000,E, grid, , , ,N
Point09,xy, 3560, 2965,in, deg, 36, 40.0000,N, 63, 0.0000,E, grid, , , ,N
Point10,xy, , ,in, deg, , ,N, , ,W, grid, , , ,N
Point11,xy, , ,in, deg, , ,N, , ,W, grid, , , ,N
Point12,xy, , ,in, deg, , ,N, , ,W, grid, , , ,N
Point13,xy, , ,in, deg, , ,N, , ,W, grid, , , ,N
Point14,xy, , ,in, deg, , ,N, , ,W, grid, , , ,N
Point15,xy, , ,in, deg, , ,N, , ,W, grid, , , ,N
Point16,xy, , ,in, deg, , ,N, , ,W, grid, , , ,N
Point17,xy, , ,in, deg, , ,N, , ,W, grid, , , ,N
Point18,xy, , ,in, deg, , ,N, , ,W, grid, , , ,N
Point19,xy, , ,in, deg, , ,N, , ,W, grid, , , ,N
Point20,xy, , ,in, deg, , ,N, , ,W, grid, , , ,N
Point21,xy, , ,in, deg, , ,N, , ,W, grid, , , ,N
Point22,xy, , ,in, deg, , ,N, , ,W, grid, , , ,N
Point23,xy, , ,in, deg, , ,N, , ,W, grid, , , ,N
Point24,xy, , ,in, deg, , ,N, , ,W, grid, , , ,N
Point25,xy, , ,in, deg, , ,N, , ,W, grid, , , ,N
Point26,xy, , ,in, deg, , ,N, , ,W, grid, , , ,N
Point27,xy, , ,in, deg, , ,N, , ,W, grid, , , ,N
Point28,xy, , ,in, deg, , ,N, , ,W, grid, , , ,N
Point29,xy, , ,in, deg, , ,N, , ,W, grid, , , ,N
Point30,xy, , ,in, deg, , ,N, , ,W, grid, , , ,N
Projection Setup, 0.000000000, 63.000000000, 1.000000000, 500000.00, 0.00,,,,,
Map Feature = MF ; Map Comment = MC These follow if they exist
Track File = TF These follow if they exist
Moving Map Parameters = MM? These follow if they exist
MM0,Yes
MMPNUM,4
MMPXY,1,104,84
MMPXY,2,3548,86
MMPXY,3,3560,2965
MMPXY,4,86,2963
MMPLL,1, 62.000000, 37.333333
MMPLL,2, 63.000000, 37.333333
MMPLL,3, 63.000000, 36.666667
MMPLL,4, 62.000000, 36.666667
MM1B,24.278215
MOP,Map Open Position,0,0
IWH,Map Image Width/Height,3646,3048
