OziExplorer Map Data File Version 2.2
200k--j41-05.gif
200k--j41-05.gif
1 ,Map Code,
Pulkovo 1942 (2),WGS 84, 0.0000, 0.0000,WGS 84
Reserved 1
Reserved 2
Magnetic Variation,,,E
Map Projection,Transverse Mercator,PolyCal,No,AutoCalOnly,No,BSBUseWPX,No
Point01,xy, 99, 96,in, deg, 40, 0.0000,N, 64, 0.0000,E, grid, , , ,N
Point02,xy, 1763, 96,in, deg, 40, 0.0000,N, 64, 30.0000,E, grid, , , ,N
Point03,xy, 3424, 90,in, deg, 40, 0.0000,N, 65, 0.0000,E, grid, , , ,N
Point04,xy, 93, 1540,in, deg, 39, 40.0000,N, 64, 0.0000,E, grid, , , ,N
Point05,xy, 1763, 1541,in, deg, 39, 40.0000,N, 64, 30.0000,E, grid, , , ,N
Point06,xy, 3431, 1535,in, deg, 39, 40.0000,N, 65, 0.0000,E, grid, , , ,N
Point07,xy, 87, 2981,in, deg, 39, 20.0000,N, 64, 0.0000,E, grid, , , ,N
Point08,xy, 1763, 2983,in, deg, 39, 20.0000,N, 64, 30.0000,E, grid, , , ,N
Point09,xy, 3439, 2975,in, deg, 39, 20.0000,N, 65, 0.0000,E, grid, , , ,N
Point10,xy, , ,in, deg, , ,N, , ,W, grid, , , ,N
Point11,xy, , ,in, deg, , ,N, , ,W, grid, , , ,N
Point12,xy, , ,in, deg, , ,N, , ,W, grid, , , ,N
Point13,xy, , ,in, deg, , ,N, , ,W, grid, , , ,N
Point14,xy, , ,in, deg, , ,N, , ,W, grid, , , ,N
Point15,xy, , ,in, deg, , ,N, , ,W, grid, , , ,N
Point16,xy, , ,in, deg, , ,N, , ,W, grid, , , ,N
Point17,xy, , ,in, deg, , ,N, , ,W, grid, , , ,N
Point18,xy, , ,in, deg, , ,N, , ,W, grid, , , ,N
Point19,xy, , ,in, deg, , ,N, , ,W, grid, , , ,N
Point20,xy, , ,in, deg, , ,N, , ,W, grid, , , ,N
Point21,xy, , ,in, deg, , ,N, , ,W, grid, , , ,N
Point22,xy, , ,in, deg, , ,N, , ,W, grid, , , ,N
Point23,xy, , ,in, deg, , ,N, , ,W, grid, , , ,N
Point24,xy, , ,in, deg, , ,N, , ,W, grid, , , ,N
Point25,xy, , ,in, deg, , ,N, , ,W, grid, , , ,N
Point26,xy, , ,in, deg, , ,N, , ,W, grid, , , ,N
Point27,xy, , ,in, deg, , ,N, , ,W, grid, , , ,N
Point28,xy, , ,in, deg, , ,N, , ,W, grid, , , ,N
Point29,xy, , ,in, deg, , ,N, , ,W, grid, , , ,N
Point30,xy, , ,in, deg, , ,N, , ,W, grid, , , ,N
Projection Setup, 0.000000000, 63.000000000, 1.000000000, 500000.00, 0.00,,,,,
Map Feature = MF ; Map Comment = MC These follow if they exist
Track File = TF These follow if they exist
Moving Map Parameters = MM? These follow if they exist
MM0,Yes
MMPNUM,4
MMPXY,1,99,96
MMPXY,2,3424,90
MMPXY,3,3439,2975
MMPXY,4,87,2981
MMPLL,1, 64.000000, 40.000000
MMPLL,2, 65.000000, 40.000000
MMPLL,3, 65.000000, 39.333333
MMPLL,4, 64.000000, 39.333333
MM1B,24.041585
MOP,Map Open Position,0,0
IWH,Map Image Width/Height,3532,3078
