OziExplorer Map Data File Version 2.2
100k--j41-142.gif
100k--j41-142.gif
1 ,Map Code,
Pulkovo 1942 (2),WGS 84, 0.0000, 0.0000,WGS 84
Reserved 1
Reserved 2
Magnetic Variation,,,E
Map Projection,Transverse Mercator,PolyCal,No,AutoCalOnly,No,BSBUseWPX,No
Point01,xy, 102, 124,in, deg, 36, 20.0000,N, 64, 30.0000,E, grid, , , ,N
Point02,xy, 1868, 116,in, deg, 36, 20.0000,N, 64, 45.0000,E, grid, , , ,N
Point03,xy, 3633, 103,in, deg, 36, 20.0000,N, 65, 0.0000,E, grid, , , ,N
Point04,xy, 104, 1583,in, deg, 36, 10.0000,N, 64, 30.0000,E, grid, , , ,N
Point05,xy, 1874, 1576,in, deg, 36, 10.0000,N, 64, 45.0000,E, grid, , , ,N
Point06,xy, 3644, 1562,in, deg, 36, 10.0000,N, 65, 0.0000,E, grid, , , ,N
Point07,xy, 108, 3036,in, deg, 36, 0.0000,N, 64, 30.0000,E, grid, , , ,N
Point08,xy, 1882, 3026,in, deg, 36, 0.0000,N, 64, 45.0000,E, grid, , , ,N
Point09,xy, 3657, 3012,in, deg, 36, 0.0000,N, 65, 0.0000,E, grid, , , ,N
Point10,xy, , ,in, deg, , ,N, , ,W, grid, , , ,N
Point11,xy, , ,in, deg, , ,N, , ,W, grid, , , ,N
Point12,xy, , ,in, deg, , ,N, , ,W, grid, , , ,N
Point13,xy, , ,in, deg, , ,N, , ,W, grid, , , ,N
Point14,xy, , ,in, deg, , ,N, , ,W, grid, , , ,N
Point15,xy, , ,in, deg, , ,N, , ,W, grid, , , ,N
Point16,xy, , ,in, deg, , ,N, , ,W, grid, , , ,N
Point17,xy, , ,in, deg, , ,N, , ,W, grid, , , ,N
Point18,xy, , ,in, deg, , ,N, , ,W, grid, , , ,N
Point19,xy, , ,in, deg, , ,N, , ,W, grid, , , ,N
Point20,xy, , ,in, deg, , ,N, , ,W, grid, , , ,N
Point21,xy, , ,in, deg, , ,N, , ,W, grid, , , ,N
Point22,xy, , ,in, deg, , ,N, , ,W, grid, , , ,N
Point23,xy, , ,in, deg, , ,N, , ,W, grid, , , ,N
Point24,xy, , ,in, deg, , ,N, , ,W, grid, , , ,N
Point25,xy, , ,in, deg, , ,N, , ,W, grid, , , ,N
Point26,xy, , ,in, deg, , ,N, , ,W, grid, , , ,N
Point27,xy, , ,in, deg, , ,N, , ,W, grid, , , ,N
Point28,xy, , ,in, deg, , ,N, , ,W, grid, , , ,N
Point29,xy, , ,in, deg, , ,N, , ,W, grid, , , ,N
Point30,xy, , ,in, deg, , ,N, , ,W, grid, , , ,N
Projection Setup, 0.000000000, 63.000000000, 1.000000000, 500000.00, 0.00,,,,,
Map Feature = MF ; Map Comment = MC These follow if they exist
Track File = TF These follow if they exist
Moving Map Parameters = MM? These follow if they exist
MM0,Yes
MMPNUM,4
MMPXY,1,120,100
MMPXY,2,3644,100
MMPXY,3,3644,3028
MMPXY,4,120,3028
MMPLL,1, 64.502686, 36.336310
MMPLL,2, 65.001478, 36.333764
MMPLL,3, 64.998329, 35.998453
MMPLL,4, 64.501658, 36.000933
MM1B,12.706073
MOP,Map Open Position,0,0
IWH,Map Image Width/Height,3764,3128
