OziExplorer Map Data File Version 2.2
100k--j41-132--(1984).gif
100k--j41-132--(1984).gif
1 ,Map Code,
Pulkovo 1942 (2),WGS 84, 0.0000, 0.0000,WGS 84
Reserved 1
Reserved 2
Magnetic Variation,,,E
Map Projection,Transverse Mercator,PolyCal,No,AutoCalOnly,No,BSBUseWPX,No
Point01,xy, 108, 100,in, deg, 36, 40.0000,N, 65, 30.0000,E, grid, , , ,N
Point02,xy, 1869, 99,ex, deg, 36, 40.0000,N, 65, 45.0000,E, grid, , , ,N
Point03,xy, 3630, 94,in, deg, 36, 40.0000,N, 66, 0.0000,E, grid, , , ,N
Point04,xy, 105, 1549,in, deg, 36, 30.0000,N, 65, 30.0000,E, grid, , , ,N
Point05,xy, 1869, 1548,in, deg, 36, 30.0000,N, 65, 45.0000,E, grid, , , ,N
Point06,xy, 3634, 1544,in, deg, 36, 30.0000,N, 66, 0.0000,E, grid, , , ,N
Point07,xy, 102, 3007,in, deg, 36, 20.0000,N, 65, 30.0000,E, grid, , , ,N
Point08,xy, 1870, 3006,in, deg, 36, 20.0000,N, 65, 45.0000,E, grid, , , ,N
Point09,xy, 3638, 3002,in, deg, 36, 20.0000,N, 66, 0.0000,E, grid, , , ,N
Point10,xy, , ,in, deg, , ,N, , ,W, grid, , , ,N
Point11,xy, , ,in, deg, , ,N, , ,W, grid, , , ,N
Point12,xy, , ,in, deg, , ,N, , ,W, grid, , , ,N
Point13,xy, , ,in, deg, , ,N, , ,W, grid, , , ,N
Point14,xy, , ,in, deg, , ,N, , ,W, grid, , , ,N
Point15,xy, , ,in, deg, , ,N, , ,W, grid, , , ,N
Point16,xy, , ,in, deg, , ,N, , ,W, grid, , , ,N
Point17,xy, , ,in, deg, , ,N, , ,W, grid, , , ,N
Point18,xy, , ,in, deg, , ,N, , ,W, grid, , , ,N
Point19,xy, , ,in, deg, , ,N, , ,W, grid, , , ,N
Point20,xy, , ,in, deg, , ,N, , ,W, grid, , , ,N
Point21,xy, , ,in, deg, , ,N, , ,W, grid, , , ,N
Point22,xy, , ,in, deg, , ,N, , ,W, grid, , , ,N
Point23,xy, , ,in, deg, , ,N, , ,W, grid, , , ,N
Point24,xy, , ,in, deg, , ,N, , ,W, grid, , , ,N
Point25,xy, , ,in, deg, , ,N, , ,W, grid, , , ,N
Point26,xy, , ,in, deg, , ,N, , ,W, grid, , , ,N
Point27,xy, , ,in, deg, , ,N, , ,W, grid, , , ,N
Point28,xy, , ,in, deg, , ,N, , ,W, grid, , , ,N
Point29,xy, , ,in, deg, , ,N, , ,W, grid, , , ,N
Point30,xy, , ,in, deg, , ,N, , ,W, grid, , , ,N
Projection Setup, 0.000000000, 63.000000000, 1.000000000, 500000.00, 0.00,,,,,
Map Feature = MF ; Map Comment = MC These follow if they exist
Track File = TF These follow if they exist
Moving Map Parameters = MM? These follow if they exist
MM0,Yes
MMPNUM,4
MMPXY,1,120,99
MMPXY,2,3616,99
MMPXY,3,3616,3002
MMPXY,4,120,3002
MMPLL,1, 65.501678, 36.666534
MMPLL,2, 65.998066, 36.665884
MMPLL,3, 65.996854, 36.333161
MMPLL,4, 65.502589, 36.333721
MM1B,12.693519
MOP,Map Open Position,0,0
IWH,Map Image Width/Height,3736,3101
