OziExplorer Map Data File Version 2.2
100k--j41-127.gif
100k--j41-127.gif
1 ,Map Code,
Pulkovo 1942 (2),WGS 84, 0.0000, 0.0000,WGS 84
Reserved 1
Reserved 2
Magnetic Variation,,,E
Map Projection,Transverse Mercator,PolyCal,No,AutoCalOnly,No,BSBUseWPX,No
Point01,xy, 111, 114,in, deg, 36, 40.0000,N, 63, 0.0000,E, grid, , , ,N
Point02,xy, 1868, 109,in, deg, 36, 40.0000,N, 63, 15.0000,E, grid, , , ,N
Point03,xy, 3625, 97,in, deg, 36, 40.0000,N, 63, 30.0000,E, grid, , , ,N
Point04,xy, 110, 1578,in, deg, 36, 30.0000,N, 63, 0.0000,E, grid, , , ,N
Point05,xy, 1873, 1567,in, deg, 36, 30.0000,N, 63, 15.0000,E, grid, , , ,N
Point06,xy, 3635, 1556,in, deg, 36, 30.0000,N, 63, 30.0000,E, grid, , , ,N
Point07,xy, 110, 3027,in, deg, 36, 20.0000,N, 63, 0.0000,E, grid, , , ,N
Point08,xy, 1880, 3019,in, deg, 36, 20.0000,N, 63, 15.0000,E, grid, , , ,N
Point09,xy, 3645, 3010,in, deg, 36, 20.0000,N, 63, 30.0000,E, grid, , , ,N
Point10,xy, , ,in, deg, , ,N, , ,W, grid, , , ,N
Point11,xy, , ,in, deg, , ,N, , ,W, grid, , , ,N
Point12,xy, , ,in, deg, , ,N, , ,W, grid, , , ,N
Point13,xy, , ,in, deg, , ,N, , ,W, grid, , , ,N
Point14,xy, , ,in, deg, , ,N, , ,W, grid, , , ,N
Point15,xy, , ,in, deg, , ,N, , ,W, grid, , , ,N
Point16,xy, , ,in, deg, , ,N, , ,W, grid, , , ,N
Point17,xy, , ,in, deg, , ,N, , ,W, grid, , , ,N
Point18,xy, , ,in, deg, , ,N, , ,W, grid, , , ,N
Point19,xy, , ,in, deg, , ,N, , ,W, grid, , , ,N
Point20,xy, , ,in, deg, , ,N, , ,W, grid, , , ,N
Point21,xy, , ,in, deg, , ,N, , ,W, grid, , , ,N
Point22,xy, , ,in, deg, , ,N, , ,W, grid, , , ,N
Point23,xy, , ,in, deg, , ,N, , ,W, grid, , , ,N
Point24,xy, , ,in, deg, , ,N, , ,W, grid, , , ,N
Point25,xy, , ,in, deg, , ,N, , ,W, grid, , , ,N
Point26,xy, , ,in, deg, , ,N, , ,W, grid, , , ,N
Point27,xy, , ,in, deg, , ,N, , ,W, grid, , , ,N
Point28,xy, , ,in, deg, , ,N, , ,W, grid, , , ,N
Point29,xy, , ,in, deg, , ,N, , ,W, grid, , , ,N
Point30,xy, , ,in, deg, , ,N, , ,W, grid, , , ,N
Projection Setup, 0.000000000, 63.000000000, 1.000000000, 500000.00, 0.00,,,,,
Map Feature = MF ; Map Comment = MC These follow if they exist
Track File = TF These follow if they exist
Moving Map Parameters = MM? These follow if they exist
MM0,Yes
MMPNUM,4
MMPXY,1,120,100
MMPXY,2,3631,100
MMPXY,3,3631,3029
MMPXY,4,120,3029
MMPLL,1, 63.001527, 36.668572
MMPLL,2, 63.500654, 36.666435
MMPLL,3, 63.498104, 36.331171
MMPLL,4, 63.001125, 36.333294
MM1B,12.704221
MOP,Map Open Position,0,0
IWH,Map Image Width/Height,3751,3129
