OziExplorer Map Data File Version 2.2
100k--j41-121.gif
100k--j41-121.gif
1 ,Map Code,
Pulkovo 1942 (2),WGS 84, 0.0000, 0.0000,WGS 84
Reserved 1
Reserved 2
Magnetic Variation,,,E
Map Projection,Transverse Mercator,PolyCal,No,AutoCalOnly,No,BSBUseWPX,No
Point01,xy, 110, 94,in, deg, 36, 40.0000,N, 60, 0.0000,E, grid, , , ,N
Point02,xy, 1870, 100,in, deg, 36, 40.0000,N, 60, 15.0000,E, grid, , , ,N
Point03,xy, 3629, 98,in, deg, 36, 40.0000,N, 60, 30.0000,E, grid, , , ,N
Point04,xy, 102, 1552,in, deg, 36, 30.0000,N, 60, 0.0000,E, grid, , , ,N
Point05,xy, 1865, 1557,in, deg, 36, 30.0000,N, 60, 15.0000,E, grid, , , ,N
Point06,xy, 3630, 1558,in, deg, 36, 30.0000,N, 60, 30.0000,E, grid, , , ,N
Point07,xy, 94, 3004,in, deg, 36, 20.0000,N, 60, 0.0000,E, grid, , , ,N
Point08,xy, 1863, 3007,in, deg, 36, 20.0000,N, 60, 15.0000,E, grid, , , ,N
Point09,xy, 3627, 3008,in, deg, 36, 20.0000,N, 60, 30.0000,E, grid, , , ,N
Point10,xy, , ,in, deg, , ,N, , ,W, grid, , , ,N
Point11,xy, , ,in, deg, , ,N, , ,W, grid, , , ,N
Point12,xy, , ,in, deg, , ,N, , ,W, grid, , , ,N
Point13,xy, , ,in, deg, , ,N, , ,W, grid, , , ,N
Point14,xy, , ,in, deg, , ,N, , ,W, grid, , , ,N
Point15,xy, , ,in, deg, , ,N, , ,W, grid, , , ,N
Point16,xy, , ,in, deg, , ,N, , ,W, grid, , , ,N
Point17,xy, , ,in, deg, , ,N, , ,W, grid, , , ,N
Point18,xy, , ,in, deg, , ,N, , ,W, grid, , , ,N
Point19,xy, , ,in, deg, , ,N, , ,W, grid, , , ,N
Point20,xy, , ,in, deg, , ,N, , ,W, grid, , , ,N
Point21,xy, , ,in, deg, , ,N, , ,W, grid, , , ,N
Point22,xy, , ,in, deg, , ,N, , ,W, grid, , , ,N
Point23,xy, , ,in, deg, , ,N, , ,W, grid, , , ,N
Point24,xy, , ,in, deg, , ,N, , ,W, grid, , , ,N
Point25,xy, , ,in, deg, , ,N, , ,W, grid, , , ,N
Point26,xy, , ,in, deg, , ,N, , ,W, grid, , , ,N
Point27,xy, , ,in, deg, , ,N, , ,W, grid, , , ,N
Point28,xy, , ,in, deg, , ,N, , ,W, grid, , , ,N
Point29,xy, , ,in, deg, , ,N, , ,W, grid, , , ,N
Point30,xy, , ,in, deg, , ,N, , ,W, grid, , , ,N
Projection Setup, 0.000000000, 63.000000000, 1.000000000, 500000.00, 0.00,,,,,
Map Feature = MF ; Map Comment = MC These follow if they exist
Track File = TF These follow if they exist
Moving Map Parameters = MM? These follow if they exist
MM0,Yes
MMPNUM,4
MMPXY,1,119,99
MMPXY,2,3611,99
MMPXY,3,3611,3005
MMPXY,4,119,3005
MMPLL,1, 60.001258, 36.666249
MMPLL,2, 60.497406, 36.666826
MMPLL,3, 60.497525, 36.333793
MMPLL,4, 60.003499, 36.333310
MM1B,12.701807
MOP,Map Open Position,0,0
IWH,Map Image Width/Height,3730,3104
