OziExplorer Map Data File Version 2.2
100k--j41-113.gif
100k--j41-113.gif
1 ,Map Code,
Pulkovo 1942 (2),WGS 84, 0.0000, 0.0000,WGS 84
Reserved 1
Reserved 2
Magnetic Variation,,,E
Map Projection,Transverse Mercator,PolyCal,No,AutoCalOnly,No,BSBUseWPX,No
Point01,xy, 108, 97,in, deg, 37, 0.0000,N, 62, 0.0000,E, grid, , , ,N
Point02,xy, 1857, 98,in, deg, 37, 0.0000,N, 62, 15.0000,E, grid, , , ,N
Point03,xy, 3609, 96,in, deg, 37, 0.0000,N, 62, 30.0000,E, grid, , , ,N
Point04,xy, 102, 1556,in, deg, 36, 50.0000,N, 62, 0.0000,E, grid, , , ,N
Point05,xy, 1857, 1560,in, deg, 36, 50.0000,N, 62, 15.0000,E, grid, , , ,N
Point06,xy, 3614, 1554,in, deg, 36, 50.0000,N, 62, 30.0000,E, grid, , , ,N
Point07,xy, 97, 3009,in, deg, 36, 40.0000,N, 62, 0.0000,E, grid, , , ,N
Point08,xy, 1854, 3010,in, deg, 36, 40.0000,N, 62, 15.0000,E, grid, , , ,N
Point09,xy, 3612, 3007,in, deg, 36, 40.0000,N, 62, 30.0000,E, grid, , , ,N
Point10,xy, , ,in, deg, , ,N, , ,W, grid, , , ,N
Point11,xy, , ,in, deg, , ,N, , ,W, grid, , , ,N
Point12,xy, , ,in, deg, , ,N, , ,W, grid, , , ,N
Point13,xy, , ,in, deg, , ,N, , ,W, grid, , , ,N
Point14,xy, , ,in, deg, , ,N, , ,W, grid, , , ,N
Point15,xy, , ,in, deg, , ,N, , ,W, grid, , , ,N
Point16,xy, , ,in, deg, , ,N, , ,W, grid, , , ,N
Point17,xy, , ,in, deg, , ,N, , ,W, grid, , , ,N
Point18,xy, , ,in, deg, , ,N, , ,W, grid, , , ,N
Point19,xy, , ,in, deg, , ,N, , ,W, grid, , , ,N
Point20,xy, , ,in, deg, , ,N, , ,W, grid, , , ,N
Point21,xy, , ,in, deg, , ,N, , ,W, grid, , , ,N
Point22,xy, , ,in, deg, , ,N, , ,W, grid, , , ,N
Point23,xy, , ,in, deg, , ,N, , ,W, grid, , , ,N
Point24,xy, , ,in, deg, , ,N, , ,W, grid, , , ,N
Point25,xy, , ,in, deg, , ,N, , ,W, grid, , , ,N
Point26,xy, , ,in, deg, , ,N, , ,W, grid, , , ,N
Point27,xy, , ,in, deg, , ,N, , ,W, grid, , , ,N
Point28,xy, , ,in, deg, , ,N, , ,W, grid, , , ,N
Point29,xy, , ,in, deg, , ,N, , ,W, grid, , , ,N
Point30,xy, , ,in, deg, , ,N, , ,W, grid, , , ,N
Projection Setup, 0.000000000, 63.000000000, 1.000000000, 500000.00, 0.00,,,,,
Map Feature = MF ; Map Comment = MC These follow if they exist
Track File = TF These follow if they exist
Moving Map Parameters = MM? These follow if they exist
MM0,Yes
MMPNUM,4
MMPXY,1,118,99
MMPXY,2,3580,99
MMPXY,3,3580,3005
MMPXY,4,118,3005
MMPLL,1, 62.001479, 36.999920
MMPLL,2, 62.495808, 36.999750
MMPLL,3, 62.495266, 36.667055
MMPLL,4, 62.003074, 36.667251
MM1B,12.705138
MOP,Map Open Position,0,0
IWH,Map Image Width/Height,3698,3104
