OziExplorer Map Data File Version 2.2
100k--j41-083.gif
100k--j41-083.gif
1 ,Map Code,
Pulkovo 1942 (2),WGS 84, 0.0000, 0.0000,WGS 84
Reserved 1
Reserved 2
Magnetic Variation,,,E
Map Projection,Transverse Mercator,PolyCal,No,AutoCalOnly,No,BSBUseWPX,No
Point01,xy, 102, 110,in, deg, 38, 0.0000,N, 65, 0.0000,E, grid, , , ,N
Point02,xy, 1832, 103,in, deg, 38, 0.0000,N, 65, 15.0000,E, grid, , , ,N
Point03,xy, 3558, 93,in, deg, 38, 0.0000,N, 65, 30.0000,E, grid, , , ,N
Point04,xy, 102, 1567,in, deg, 37, 50.0000,N, 65, 0.0000,E, grid, , , ,N
Point05,xy, 1838, 1565,in, deg, 37, 50.0000,N, 65, 15.0000,E, grid, , , ,N
Point06,xy, 3573, 1554,in, deg, 37, 50.0000,N, 65, 30.0000,E, grid, , , ,N
Point07,xy, 103, 3020,in, deg, 37, 40.0000,N, 65, 0.0000,E, grid, , , ,N
Point08,xy, 1843, 3015,in, deg, 37, 40.0000,N, 65, 15.0000,E, grid, , , ,N
Point09,xy, 3578, 3005,in, deg, 37, 40.0000,N, 65, 30.0000,E, grid, , , ,N
Point10,xy, , ,in, deg, , ,N, , ,W, grid, , , ,N
Point11,xy, , ,in, deg, , ,N, , ,W, grid, , , ,N
Point12,xy, , ,in, deg, , ,N, , ,W, grid, , , ,N
Point13,xy, , ,in, deg, , ,N, , ,W, grid, , , ,N
Point14,xy, , ,in, deg, , ,N, , ,W, grid, , , ,N
Point15,xy, , ,in, deg, , ,N, , ,W, grid, , , ,N
Point16,xy, , ,in, deg, , ,N, , ,W, grid, , , ,N
Point17,xy, , ,in, deg, , ,N, , ,W, grid, , , ,N
Point18,xy, , ,in, deg, , ,N, , ,W, grid, , , ,N
Point19,xy, , ,in, deg, , ,N, , ,W, grid, , , ,N
Point20,xy, , ,in, deg, , ,N, , ,W, grid, , , ,N
Point21,xy, , ,in, deg, , ,N, , ,W, grid, , , ,N
Point22,xy, , ,in, deg, , ,N, , ,W, grid, , , ,N
Point23,xy, , ,in, deg, , ,N, , ,W, grid, , , ,N
Point24,xy, , ,in, deg, , ,N, , ,W, grid, , , ,N
Point25,xy, , ,in, deg, , ,N, , ,W, grid, , , ,N
Point26,xy, , ,in, deg, , ,N, , ,W, grid, , , ,N
Point27,xy, , ,in, deg, , ,N, , ,W, grid, , , ,N
Point28,xy, , ,in, deg, , ,N, , ,W, grid, , , ,N
Point29,xy, , ,in, deg, , ,N, , ,W, grid, , , ,N
Point30,xy, , ,in, deg, , ,N, , ,W, grid, , , ,N
Projection Setup, 0.000000000, 63.000000000, 1.000000000, 500000.00, 0.00,,,,,
Map Feature = MF ; Map Comment = MC These follow if they exist
Track File = TF These follow if they exist
Moving Map Parameters = MM? These follow if they exist
MM0,Yes
MMPNUM,4
MMPXY,1,118,100
MMPXY,2,3565,100
MMPXY,3,3565,3014
MMPXY,4,118,3014
MMPLL,1, 65.002391, 38.001176
MMPLL,2, 65.500575, 37.999427
MMPLL,3, 65.497912, 37.665835
MMPLL,4, 65.001969, 37.667507
MM1B,12.692987
MOP,Map Open Position,0,0
IWH,Map Image Width/Height,3683,3114
