OziExplorer Map Data File Version 2.2
100k--j41-062.gif
100k--j41-062.gif
1 ,Map Code,
Pulkovo 1942 (2),WGS 84, 0.0000, 0.0000,WGS 84
Reserved 1
Reserved 2
Magnetic Variation,,,E
Map Projection,Transverse Mercator,PolyCal,No,AutoCalOnly,No,BSBUseWPX,No
Point01,xy, 122, 102,in, deg, 38, 20.0000,N, 60, 30.0000,E, grid, , , ,N
Point02,xy, 1840, 106,in, deg, 38, 20.0000,N, 60, 45.0000,E, grid, , , ,N
Point03,xy, 3562, 103,in, deg, 38, 20.0000,N, 61, 0.0000,E, grid, , , ,N
Point04,xy, 116, 1562,in, deg, 38, 10.0000,N, 60, 30.0000,E, grid, , , ,N
Point05,xy, 1839, 1565,in, deg, 38, 10.0000,N, 60, 45.0000,E, grid, , , ,N
Point06,xy, 3567, 1564,in, deg, 38, 10.0000,N, 61, 0.0000,E, grid, , , ,N
Point07,xy, 111, 3014,in, deg, 38, 0.0000,N, 60, 30.0000,E, grid, , , ,N
Point08,xy, 1838, 3014,in, deg, 38, 0.0000,N, 60, 45.0000,E, grid, , , ,N
Point09,xy, 3566, 3014,in, deg, 38, 0.0000,N, 61, 0.0000,E, grid, , , ,N
Point10,xy, , ,in, deg, , ,N, , ,W, grid, , , ,N
Point11,xy, , ,in, deg, , ,N, , ,W, grid, , , ,N
Point12,xy, , ,in, deg, , ,N, , ,W, grid, , , ,N
Point13,xy, , ,in, deg, , ,N, , ,W, grid, , , ,N
Point14,xy, , ,in, deg, , ,N, , ,W, grid, , , ,N
Point15,xy, , ,in, deg, , ,N, , ,W, grid, , , ,N
Point16,xy, , ,in, deg, , ,N, , ,W, grid, , , ,N
Point17,xy, , ,in, deg, , ,N, , ,W, grid, , , ,N
Point18,xy, , ,in, deg, , ,N, , ,W, grid, , , ,N
Point19,xy, , ,in, deg, , ,N, , ,W, grid, , , ,N
Point20,xy, , ,in, deg, , ,N, , ,W, grid, , , ,N
Point21,xy, , ,in, deg, , ,N, , ,W, grid, , , ,N
Point22,xy, , ,in, deg, , ,N, , ,W, grid, , , ,N
Point23,xy, , ,in, deg, , ,N, , ,W, grid, , , ,N
Point24,xy, , ,in, deg, , ,N, , ,W, grid, , , ,N
Point25,xy, , ,in, deg, , ,N, , ,W, grid, , , ,N
Point26,xy, , ,in, deg, , ,N, , ,W, grid, , , ,N
Point27,xy, , ,in, deg, , ,N, , ,W, grid, , , ,N
Point28,xy, , ,in, deg, , ,N, , ,W, grid, , , ,N
Point29,xy, , ,in, deg, , ,N, , ,W, grid, , , ,N
Point30,xy, , ,in, deg, , ,N, , ,W, grid, , , ,N
Projection Setup, 0.000000000, 63.000000000, 1.000000000, 500000.00, 0.00,,,,,
Map Feature = MF ; Map Comment = MC These follow if they exist
Track File = TF These follow if they exist
Moving Map Parameters = MM? These follow if they exist
MM0,Yes
MMPNUM,4
MMPXY,1,118,100
MMPXY,2,3578,100
MMPXY,3,3578,3014
MMPXY,4,118,3014
MMPLL,1, 60.499532, 38.333772
MMPLL,2, 61.002326, 38.333919
MMPLL,3, 61.001612, 38.000132
MMPLL,4, 60.501107, 38.000058
MM1B,12.702918
MOP,Map Open Position,0,0
IWH,Map Image Width/Height,3696,3114
