OziExplorer Map Data File Version 2.2
100k--j41-053.gif
100k--j41-053.gif
1 ,Map Code,
Pulkovo 1942 (2),WGS 84, 0.0000, 0.0000,WGS 84
Reserved 1
Reserved 2
Magnetic Variation,,,E
Map Projection,Transverse Mercator,PolyCal,No,AutoCalOnly,No,BSBUseWPX,No
Point01,xy, 102, 92,in, deg, 38, 40.0000,N, 62, 0.0000,E, grid, , , ,N
Point02,xy, 1814, 94,in, deg, 38, 40.0000,N, 62, 15.0000,E, grid, , , ,N
Point03,xy, 3526, 92,in, deg, 38, 40.0000,N, 62, 30.0000,E, grid, , , ,N
Point04,xy, 97, 1553,in, deg, 38, 30.0000,N, 62, 0.0000,E, grid, , , ,N
Point05,xy, 1812, 1552,in, deg, 38, 30.0000,N, 62, 15.0000,E, grid, , , ,N
Point06,xy, 3526, 1552,in, deg, 38, 30.0000,N, 62, 30.0000,E, grid, , , ,N
Point07,xy, 91, 3007,in, deg, 38, 20.0000,N, 62, 0.0000,E, grid, , , ,N
Point08,xy, 1810, 3009,in, deg, 38, 20.0000,N, 62, 15.0000,E, grid, , , ,N
Point09,xy, 3530, 3008,in, deg, 38, 20.0000,N, 62, 30.0000,E, grid, , , ,N
Point10,xy, , ,in, deg, , ,N, , ,W, grid, , , ,N
Point11,xy, , ,in, deg, , ,N, , ,W, grid, , , ,N
Point12,xy, , ,in, deg, , ,N, , ,W, grid, , , ,N
Point13,xy, , ,in, deg, , ,N, , ,W, grid, , , ,N
Point14,xy, , ,in, deg, , ,N, , ,W, grid, , , ,N
Point15,xy, , ,in, deg, , ,N, , ,W, grid, , , ,N
Point16,xy, , ,in, deg, , ,N, , ,W, grid, , , ,N
Point17,xy, , ,in, deg, , ,N, , ,W, grid, , , ,N
Point18,xy, , ,in, deg, , ,N, , ,W, grid, , , ,N
Point19,xy, , ,in, deg, , ,N, , ,W, grid, , , ,N
Point20,xy, , ,in, deg, , ,N, , ,W, grid, , , ,N
Point21,xy, , ,in, deg, , ,N, , ,W, grid, , , ,N
Point22,xy, , ,in, deg, , ,N, , ,W, grid, , , ,N
Point23,xy, , ,in, deg, , ,N, , ,W, grid, , , ,N
Point24,xy, , ,in, deg, , ,N, , ,W, grid, , , ,N
Point25,xy, , ,in, deg, , ,N, , ,W, grid, , , ,N
Point26,xy, , ,in, deg, , ,N, , ,W, grid, , , ,N
Point27,xy, , ,in, deg, , ,N, , ,W, grid, , , ,N
Point28,xy, , ,in, deg, , ,N, , ,W, grid, , , ,N
Point29,xy, , ,in, deg, , ,N, , ,W, grid, , , ,N
Point30,xy, , ,in, deg, , ,N, , ,W, grid, , , ,N
Projection Setup, 0.000000000, 63.000000000, 1.000000000, 500000.00, 0.00,,,,,
Map Feature = MF ; Map Comment = MC These follow if they exist
Track File = TF These follow if they exist
Moving Map Parameters = MM? These follow if they exist
MM0,Yes
MMPNUM,4
MMPXY,1,116,99
MMPXY,2,3502,99
MMPXY,3,3502,3000
MMPXY,4,116,3000
MMPLL,1, 62.001982, 38.665927
MMPLL,2, 62.496608, 38.665942
MMPLL,3, 62.496010, 38.334237
MMPLL,4, 62.003648, 38.334248
MM1B,12.709026
MOP,Map Open Position,0,0
IWH,Map Image Width/Height,3618,3099
