OziExplorer Map Data File Version 2.2
100k--j41-040.gif
100k--j41-040.gif
1 ,Map Code,
Pulkovo 1942 (2),WGS 84, 0.0000, 0.0000,WGS 84
Reserved 1
Reserved 2
Magnetic Variation,,,E
Map Projection,Transverse Mercator,PolyCal,No,AutoCalOnly,No,BSBUseWPX,No
Point01,xy, 117, 101,in, deg, 39, 0.0000,N, 61, 30.0000,E, grid, , , ,N
Point02,xy, 1820, 105,in, deg, 39, 0.0000,N, 61, 45.0000,E, grid, , , ,N
Point03,xy, 3525, 100,in, deg, 39, 0.0000,N, 62, 0.0000,E, grid, , , ,N
Point04,xy, 111, 1559,in, deg, 38, 50.0000,N, 61, 30.0000,E, grid, , , ,N
Point05,xy, 1819, 1561,in, deg, 38, 50.0000,N, 61, 45.0000,E, grid, , , ,N
Point06,xy, 3529, 1556,in, deg, 38, 50.0000,N, 62, 0.0000,E, grid, , , ,N
Point07,xy, 106, 3008,in, deg, 38, 40.0000,N, 61, 30.0000,E, grid, , , ,N
Point08,xy, 1819, 3009,in, deg, 38, 40.0000,N, 61, 45.0000,E, grid, , , ,N
Point09,xy, 3528, 3005,in, deg, 38, 40.0000,N, 62, 0.0000,E, grid, , , ,N
Point10,xy, , ,in, deg, , ,N, , ,W, grid, , , ,N
Point11,xy, , ,in, deg, , ,N, , ,W, grid, , , ,N
Point12,xy, , ,in, deg, , ,N, , ,W, grid, , , ,N
Point13,xy, , ,in, deg, , ,N, , ,W, grid, , , ,N
Point14,xy, , ,in, deg, , ,N, , ,W, grid, , , ,N
Point15,xy, , ,in, deg, , ,N, , ,W, grid, , , ,N
Point16,xy, , ,in, deg, , ,N, , ,W, grid, , , ,N
Point17,xy, , ,in, deg, , ,N, , ,W, grid, , , ,N
Point18,xy, , ,in, deg, , ,N, , ,W, grid, , , ,N
Point19,xy, , ,in, deg, , ,N, , ,W, grid, , , ,N
Point20,xy, , ,in, deg, , ,N, , ,W, grid, , , ,N
Point21,xy, , ,in, deg, , ,N, , ,W, grid, , , ,N
Point22,xy, , ,in, deg, , ,N, , ,W, grid, , , ,N
Point23,xy, , ,in, deg, , ,N, , ,W, grid, , , ,N
Point24,xy, , ,in, deg, , ,N, , ,W, grid, , , ,N
Point25,xy, , ,in, deg, , ,N, , ,W, grid, , , ,N
Point26,xy, , ,in, deg, , ,N, , ,W, grid, , , ,N
Point27,xy, , ,in, deg, , ,N, , ,W, grid, , , ,N
Point28,xy, , ,in, deg, , ,N, , ,W, grid, , , ,N
Point29,xy, , ,in, deg, , ,N, , ,W, grid, , , ,N
Point30,xy, , ,in, deg, , ,N, , ,W, grid, , , ,N
Projection Setup, 0.000000000, 63.000000000, 1.000000000, 500000.00, 0.00,,,,,
Map Feature = MF ; Map Comment = MC These follow if they exist
Track File = TF These follow if they exist
Moving Map Parameters = MM? These follow if they exist
MM0,Yes
MMPNUM,4
MMPXY,1,117,100
MMPXY,2,3526,100
MMPXY,3,3526,3014
MMPXY,4,117,3014
MMPLL,1, 61.500025, 39.000416
MMPLL,2, 62.000170, 39.000168
MMPLL,3, 61.999442, 38.665823
MMPLL,4, 61.501631, 38.666111
MM1B,12.704852
MOP,Map Open Position,0,0
IWH,Map Image Width/Height,3643,3114
