OziExplorer Map Data File Version 2.2
100k--j41-034.gif
100k--j41-034.gif
1 ,Map Code,
Pulkovo 1942 (2),WGS 84, 0.0000, 0.0000,WGS 84
Reserved 1
Reserved 2
Magnetic Variation,,,E
Map Projection,Transverse Mercator,PolyCal,No,AutoCalOnly,No,BSBUseWPX,No
Point01,xy, 114, 114,in, deg, 39, 20.0000,N, 64, 30.0000,E, grid, , , ,N
Point02,xy, 1811, 112,in, deg, 39, 20.0000,N, 64, 45.0000,E, grid, , , ,N
Point03,xy, 3502, 107,in, deg, 39, 20.0000,N, 65, 0.0000,E, grid, , , ,N
Point04,xy, 111, 1574,in, deg, 39, 10.0000,N, 64, 30.0000,E, grid, , , ,N
Point05,xy, 1810, 1571,in, deg, 39, 10.0000,N, 64, 45.0000,E, grid, , , ,N
Point06,xy, 3511, 1563,in, deg, 39, 10.0000,N, 65, 0.0000,E, grid, , , ,N
Point07,xy, 109, 3025,in, deg, 39, 0.0000,N, 64, 30.0000,E, grid, , , ,N
Point08,xy, 1810, 3020,in, deg, 39, 0.0000,N, 64, 45.0000,E, grid, , , ,N
Point09,xy, 3513, 3015,in, deg, 39, 0.0000,N, 65, 0.0000,E, grid, , , ,N
Point10,xy, , ,in, deg, , ,N, , ,W, grid, , , ,N
Point11,xy, , ,in, deg, , ,N, , ,W, grid, , , ,N
Point12,xy, , ,in, deg, , ,N, , ,W, grid, , , ,N
Point13,xy, , ,in, deg, , ,N, , ,W, grid, , , ,N
Point14,xy, , ,in, deg, , ,N, , ,W, grid, , , ,N
Point15,xy, , ,in, deg, , ,N, , ,W, grid, , , ,N
Point16,xy, , ,in, deg, , ,N, , ,W, grid, , , ,N
Point17,xy, , ,in, deg, , ,N, , ,W, grid, , , ,N
Point18,xy, , ,in, deg, , ,N, , ,W, grid, , , ,N
Point19,xy, , ,in, deg, , ,N, , ,W, grid, , , ,N
Point20,xy, , ,in, deg, , ,N, , ,W, grid, , , ,N
Point21,xy, , ,in, deg, , ,N, , ,W, grid, , , ,N
Point22,xy, , ,in, deg, , ,N, , ,W, grid, , , ,N
Point23,xy, , ,in, deg, , ,N, , ,W, grid, , , ,N
Point24,xy, , ,in, deg, , ,N, , ,W, grid, , , ,N
Point25,xy, , ,in, deg, , ,N, , ,W, grid, , , ,N
Point26,xy, , ,in, deg, , ,N, , ,W, grid, , , ,N
Point27,xy, , ,in, deg, , ,N, , ,W, grid, , , ,N
Point28,xy, , ,in, deg, , ,N, , ,W, grid, , , ,N
Point29,xy, , ,in, deg, , ,N, , ,W, grid, , , ,N
Point30,xy, , ,in, deg, , ,N, , ,W, grid, , , ,N
Projection Setup, 0.000000000, 63.000000000, 1.000000000, 500000.00, 0.00,,,,,
Map Feature = MF ; Map Comment = MC These follow if they exist
Track File = TF These follow if they exist
Moving Map Parameters = MM? These follow if they exist
MM0,Yes
MMPNUM,4
MMPXY,1,116,100
MMPXY,2,3500,100
MMPXY,3,3500,3029
MMPXY,4,116,3029
MMPLL,1, 64.500197, 39.335197
MMPLL,2, 64.999423, 39.334105
MMPLL,3, 64.997993, 38.998511
MMPLL,4, 64.501136, 38.999548
MM1B,12.716177
MOP,Map Open Position,0,0
IWH,Map Image Width/Height,3616,3129
