OziExplorer Map Data File Version 2.2
100k--j41-027.gif
100k--j41-027.gif
1 ,Map Code,
Pulkovo 1942 (2),WGS 84, 0.0000, 0.0000,WGS 84
Reserved 1
Reserved 2
Magnetic Variation,,,E
Map Projection,Transverse Mercator,PolyCal,No,AutoCalOnly,No,BSBUseWPX,No
Point01,xy, 115, 88,in, deg, 39, 20.0000,N, 61, 0.0000,E, grid, , , ,N
Point02,xy, 1809, 93,in, deg, 39, 20.0000,N, 61, 15.0000,E, grid, , , ,N
Point03,xy, 3505, 92,in, deg, 39, 20.0000,N, 61, 30.0000,E, grid, , , ,N
Point04,xy, 105, 1545,in, deg, 39, 10.0000,N, 61, 0.0000,E, grid, , , ,N
Point05,xy, 1806, 1552,in, deg, 39, 10.0000,N, 61, 15.0000,E, grid, , , ,N
Point06,xy, 3505, 1551,in, deg, 39, 10.0000,N, 61, 30.0000,E, grid, , , ,N
Point07,xy, 98, 2995,in, deg, 39, 0.0000,N, 61, 0.0000,E, grid, , , ,N
Point08,xy, 1802, 3000,in, deg, 39, 0.0000,N, 61, 15.0000,E, grid, , , ,N
Point09,xy, 3503, 3000,in, deg, 39, 0.0000,N, 61, 30.0000,E, grid, , , ,N
Point10,xy, , ,in, deg, , ,N, , ,W, grid, , , ,N
Point11,xy, , ,in, deg, , ,N, , ,W, grid, , , ,N
Point12,xy, , ,in, deg, , ,N, , ,W, grid, , , ,N
Point13,xy, , ,in, deg, , ,N, , ,W, grid, , , ,N
Point14,xy, , ,in, deg, , ,N, , ,W, grid, , , ,N
Point15,xy, , ,in, deg, , ,N, , ,W, grid, , , ,N
Point16,xy, , ,in, deg, , ,N, , ,W, grid, , , ,N
Point17,xy, , ,in, deg, , ,N, , ,W, grid, , , ,N
Point18,xy, , ,in, deg, , ,N, , ,W, grid, , , ,N
Point19,xy, , ,in, deg, , ,N, , ,W, grid, , , ,N
Point20,xy, , ,in, deg, , ,N, , ,W, grid, , , ,N
Point21,xy, , ,in, deg, , ,N, , ,W, grid, , , ,N
Point22,xy, , ,in, deg, , ,N, , ,W, grid, , , ,N
Point23,xy, , ,in, deg, , ,N, , ,W, grid, , , ,N
Point24,xy, , ,in, deg, , ,N, , ,W, grid, , , ,N
Point25,xy, , ,in, deg, , ,N, , ,W, grid, , , ,N
Point26,xy, , ,in, deg, , ,N, , ,W, grid, , , ,N
Point27,xy, , ,in, deg, , ,N, , ,W, grid, , , ,N
Point28,xy, , ,in, deg, , ,N, , ,W, grid, , , ,N
Point29,xy, , ,in, deg, , ,N, , ,W, grid, , , ,N
Point30,xy, , ,in, deg, , ,N, , ,W, grid, , , ,N
Projection Setup, 0.000000000, 63.000000000, 1.000000000, 500000.00, 0.00,,,,,
Map Feature = MF ; Map Comment = MC These follow if they exist
Track File = TF These follow if they exist
Moving Map Parameters = MM? These follow if they exist
MM0,Yes
MMPNUM,4
MMPXY,1,115,99
MMPXY,2,3487,99
MMPXY,3,3487,2989
MMPXY,4,115,2989
MMPLL,1, 61.000080, 39.332205
MMPLL,2, 61.497373, 39.332806
MMPLL,3, 61.497479, 39.001435
MMPLL,4, 61.002515, 39.000893
MM1B,12.712089
MOP,Map Open Position,0,0
IWH,Map Image Width/Height,3602,3088
