OziExplorer Map Data File Version 2.2
100k--j41-022.gif
100k--j41-022.gif
1 ,Map Code,
Pulkovo 1942 (2),WGS 84, 0.0000, 0.0000,WGS 84
Reserved 1
Reserved 2
Magnetic Variation,,,E
Map Projection,Transverse Mercator,PolyCal,No,AutoCalOnly,No,BSBUseWPX,No
Point01,xy, 109, 93,in, deg, 39, 40.0000,N, 64, 30.0000,E, grid, , , ,N
Point02,xy, 1793, 95,in, deg, 39, 40.0000,N, 64, 45.0000,E, grid, , , ,N
Point03,xy, 3483, 97,in, deg, 39, 40.0000,N, 65, 0.0000,E, grid, , , ,N
Point04,xy, 100, 1552,in, deg, 39, 30.0000,N, 64, 30.0000,E, grid, , , ,N
Point05,xy, 1790, 1556,in, deg, 39, 30.0000,N, 64, 45.0000,E, grid, , , ,N
Point06,xy, 3485, 1556,in, deg, 39, 30.0000,N, 65, 0.0000,E, grid, , , ,N
Point07,xy, 92, 3003,in, deg, 39, 20.0000,N, 64, 30.0000,E, grid, , , ,N
Point08,xy, 1788, 3008,in, deg, 39, 20.0000,N, 64, 45.0000,E, grid, , , ,N
Point09,xy, 3483, 3006,in, deg, 39, 20.0000,N, 65, 0.0000,E, grid, , , ,N
Point10,xy, , ,in, deg, , ,N, , ,W, grid, , , ,N
Point11,xy, , ,in, deg, , ,N, , ,W, grid, , , ,N
Point12,xy, , ,in, deg, , ,N, , ,W, grid, , , ,N
Point13,xy, , ,in, deg, , ,N, , ,W, grid, , , ,N
Point14,xy, , ,in, deg, , ,N, , ,W, grid, , , ,N
Point15,xy, , ,in, deg, , ,N, , ,W, grid, , , ,N
Point16,xy, , ,in, deg, , ,N, , ,W, grid, , , ,N
Point17,xy, , ,in, deg, , ,N, , ,W, grid, , , ,N
Point18,xy, , ,in, deg, , ,N, , ,W, grid, , , ,N
Point19,xy, , ,in, deg, , ,N, , ,W, grid, , , ,N
Point20,xy, , ,in, deg, , ,N, , ,W, grid, , , ,N
Point21,xy, , ,in, deg, , ,N, , ,W, grid, , , ,N
Point22,xy, , ,in, deg, , ,N, , ,W, grid, , , ,N
Point23,xy, , ,in, deg, , ,N, , ,W, grid, , , ,N
Point24,xy, , ,in, deg, , ,N, , ,W, grid, , , ,N
Point25,xy, , ,in, deg, , ,N, , ,W, grid, , , ,N
Point26,xy, , ,in, deg, , ,N, , ,W, grid, , , ,N
Point27,xy, , ,in, deg, , ,N, , ,W, grid, , , ,N
Point28,xy, , ,in, deg, , ,N, , ,W, grid, , , ,N
Point29,xy, , ,in, deg, , ,N, , ,W, grid, , , ,N
Point30,xy, , ,in, deg, , ,N, , ,W, grid, , , ,N
Projection Setup, 0.000000000, 63.000000000, 1.000000000, 500000.00, 0.00,,,,,
Map Feature = MF ; Map Comment = MC These follow if they exist
Track File = TF These follow if they exist
Moving Map Parameters = MM? These follow if they exist
MM0,Yes
MMPNUM,4
MMPXY,1,115,99
MMPXY,2,3465,99
MMPXY,3,3465,3005
MMPXY,4,115,3005
MMPLL,1, 64.501115, 39.666091
MMPLL,2, 64.997372, 39.666483
MMPLL,3, 64.997274, 39.333712
MMPLL,4, 64.503380, 39.333271
MM1B,12.707282
MOP,Map Open Position,0,0
IWH,Map Image Width/Height,3580,3104
