OziExplorer Map Data File Version 2.2
100k--j41-021.gif
100k--j41-021.gif
1 ,Map Code,
Pulkovo 1942 (2),WGS 84, 0.0000, 0.0000,WGS 84
Reserved 1
Reserved 2
Magnetic Variation,,,E
Map Projection,Transverse Mercator,PolyCal,No,AutoCalOnly,No,BSBUseWPX,No
Point01,xy, 111, 102,in, deg, 39, 40.0000,N, 64, 0.0000,E, grid, , , ,N
Point02,xy, 1794, 104,in, deg, 39, 40.0000,N, 64, 15.0000,E, grid, , , ,N
Point03,xy, 3483, 100,in, deg, 39, 40.0000,N, 64, 30.0000,E, grid, , , ,N
Point04,xy, 106, 1560,in, deg, 39, 30.0000,N, 64, 0.0000,E, grid, , , ,N
Point05,xy, 1797, 1564,in, deg, 39, 30.0000,N, 64, 15.0000,E, grid, , , ,N
Point06,xy, 3489, 1558,in, deg, 39, 30.0000,N, 64, 30.0000,E, grid, , , ,N
Point07,xy, 102, 3012,in, deg, 39, 20.0000,N, 64, 0.0000,E, grid, , , ,N
Point08,xy, 1798, 3014,in, deg, 39, 20.0000,N, 64, 15.0000,E, grid, , , ,N
Point09,xy, 3491, 3011,in, deg, 39, 20.0000,N, 64, 30.0000,E, grid, , , ,N
Point10,xy, , ,in, deg, , ,N, , ,W, grid, , , ,N
Point11,xy, , ,in, deg, , ,N, , ,W, grid, , , ,N
Point12,xy, , ,in, deg, , ,N, , ,W, grid, , , ,N
Point13,xy, , ,in, deg, , ,N, , ,W, grid, , , ,N
Point14,xy, , ,in, deg, , ,N, , ,W, grid, , , ,N
Point15,xy, , ,in, deg, , ,N, , ,W, grid, , , ,N
Point16,xy, , ,in, deg, , ,N, , ,W, grid, , , ,N
Point17,xy, , ,in, deg, , ,N, , ,W, grid, , , ,N
Point18,xy, , ,in, deg, , ,N, , ,W, grid, , , ,N
Point19,xy, , ,in, deg, , ,N, , ,W, grid, , , ,N
Point20,xy, , ,in, deg, , ,N, , ,W, grid, , , ,N
Point21,xy, , ,in, deg, , ,N, , ,W, grid, , , ,N
Point22,xy, , ,in, deg, , ,N, , ,W, grid, , , ,N
Point23,xy, , ,in, deg, , ,N, , ,W, grid, , , ,N
Point24,xy, , ,in, deg, , ,N, , ,W, grid, , , ,N
Point25,xy, , ,in, deg, , ,N, , ,W, grid, , , ,N
Point26,xy, , ,in, deg, , ,N, , ,W, grid, , , ,N
Point27,xy, , ,in, deg, , ,N, , ,W, grid, , , ,N
Point28,xy, , ,in, deg, , ,N, , ,W, grid, , , ,N
Point29,xy, , ,in, deg, , ,N, , ,W, grid, , , ,N
Point30,xy, , ,in, deg, , ,N, , ,W, grid, , , ,N
Projection Setup, 0.000000000, 63.000000000, 1.000000000, 500000.00, 0.00,,,,,
Map Feature = MF ; Map Comment = MC These follow if they exist
Track File = TF These follow if they exist
Moving Map Parameters = MM? These follow if they exist
MM0,Yes
MMPNUM,4
MMPXY,1,115,99
MMPXY,2,3466,99
MMPXY,3,3466,3005
MMPXY,4,115,3005
MMPLL,1, 64.000791, 39.667159
MMPLL,2, 64.497495, 39.666955
MMPLL,3, 64.496170, 39.334140
MMPLL,4, 64.001830, 39.334306
MM1B,12.714625
MOP,Map Open Position,0,0
IWH,Map Image Width/Height,3581,3104
